BEGIN:VCALENDAR
VERSION:2.0
PRODID:-//ChamberMaster//Event Calendar 2.0//EN
METHOD:PUBLISH
X-PUBLISHED-TTL:P3D
REFRESH-INTERVAL:P3D
CALSCALE:GREGORIAN
BEGIN:VEVENT
DTSTART:20260509T130000Z
DTEND:20260509T200000Z
X-MICROSOFT-CDO-ALLDAYEVENT:FALSE
SUMMARY:World Migratory Bird Day Celebration
DESCRIPTION:We are celebrating extraordinary birds that fly thousands of miles every spring to their breeding grounds so they can nurture the next generation. Join us for bird walks\, animal encounters\, native plant walks\, and local artisans! We will be celebrating all day! Dogwood Canyon Audubon Center is a Texan by Nature conservation partner.
X-ALT-DESC;FMTTYPE=text/html:We are celebrating extraordinary birds that fly thousands of miles every spring to their breeding grounds so they can nurture the next generation. Join us for bird walks\, animal encounters\, native plant walks\, and local artisans! We will be celebrating all day! Dogwood Canyon Audubon Center is a Texan by Nature conservation partner.
LOCATION:Dogwood Canyon Audubon Center 1206 W FM 1382\, Cedar Hill\, TX 75104
UID:e.1426.20606
SEQUENCE:3
DTSTAMP:20260423T213319Z
URL:https://www.cedarhillchamber.org/events/details/world-migratory-bird-day-celebration-20606
END:VEVENT

END:VCALENDAR
