BEGIN:VCALENDAR
VERSION:2.0
PRODID:-//ChamberMaster//Event Calendar 2.0//EN
METHOD:PUBLISH
X-PUBLISHED-TTL:P3D
REFRESH-INTERVAL:P3D
CALSCALE:GREGORIAN
BEGIN:VEVENT
DTSTART:20210621T150000Z
DTEND:20210621T180000Z
X-MICROSOFT-CDO-ALLDAYEVENT:FALSE
SUMMARY:Workforce Solutions at the Zula B. Wylie Public Library
DESCRIPTION:Yvette Riquelme from Workforce Solutions Greater Dallas will be tabling in the library lobby every Monday. She is available to answer any career-related questions if anyone needs assistance or if they would like to learn more about the resources available through Workforce.
X-ALT-DESC;FMTTYPE=text/html:<span style="font-family: Calibri\, sans-serif\; font-size: 14.6667px\;">Yvette Riquelme from Workforce Solutions Greater Dallas will be tabling in the library lobby every Monday. She is available to answer any career-related questions if anyone needs assistance or if they would like to learn more about the resources available through Workforce.</span>
LOCATION:Zula B. Wylie Public Library 225 Cedar St Cedar Hill\, TX 75104
UID:e.1426.16560
SEQUENCE:3
DTSTAMP:20260424T204518Z
URL:https://www.cedarhillchamber.org/events/details/workforce-solutions-at-the-zula-b-wylie-public-library-16560
END:VEVENT

END:VCALENDAR
