BEGIN:VCALENDAR
VERSION:2.0
PRODID:-//ChamberMaster//Event Calendar 2.0//EN
METHOD:PUBLISH
X-PUBLISHED-TTL:P3D
REFRESH-INTERVAL:P3D
CALSCALE:GREGORIAN
BEGIN:VEVENT
DTSTART:20210614T150000Z
DTEND:20210614T180000Z
X-MICROSOFT-CDO-ALLDAYEVENT:FALSE
SUMMARY:Workforce Solutions at the Zula B. Wylie Public Library
DESCRIPTION:Yvette Riquelme from Workforce Solutions Greater Dallas will be tabling in the library lobby every Monday. She is available to answer any career-related questions if anyone needs assistance or if they would like to learn more about the resources available through Workforce.
X-ALT-DESC;FMTTYPE=text/html:<div class="m_9212958456988248672MsoListParagraph" style="margin: 0in\; font-size: 11pt\; font-family: Calibri\, sans-serif\;">Yvette Riquelme from Workforce Solutions Greater Dallas will be tabling in the library lobby every Monday. She is available to answer any career-related questions if anyone needs assistance or if they would like to learn more about the resources available through Workforce.</div>\n
LOCATION:Zula B. Wylie Public Library 225 Cedar St Cedar Hill\, TX 75104
UID:e.1426.16559
SEQUENCE:3
DTSTAMP:20260424T204517Z
URL:https://www.cedarhillchamber.org/events/details/workforce-solutions-at-the-zula-b-wylie-public-library-16559
END:VEVENT

END:VCALENDAR
