BEGIN:VCALENDAR
VERSION:2.0
PRODID:-//ChamberMaster//Event Calendar 2.0//EN
METHOD:PUBLISH
X-PUBLISHED-TTL:P3D
REFRESH-INTERVAL:P3D
CALSCALE:GREGORIAN
BEGIN:VEVENT
DTSTART:20230211T150000Z
DTEND:20230211T160000Z
X-MICROSOFT-CDO-ALLDAYEVENT:FALSE
SUMMARY:WORK\, LIFE AND MONEY: CREATING A LIVING FINANCIAL PLAN WORKSHOP
DESCRIPTION:Are You Struggling with\n\nBalancing Responsibilities?\n\nIt's a challenge\, but it is possible to succeed.\n\n\n\n For many people\, balancing the responsibilities related to work\, family life and money is challenging. This seminar will help you focus on what's important and how to improve the balance in your life. Since personal financial habits play a major role in successfully reaching that goal\, three solid financial habits are discussed in detail: \n\n	Determining your financial well-being score\n	Reviewing personal finances \n	Keeping big goals on track.
X-ALT-DESC;FMTTYPE=text/html:<span style="color:#0B2E5E"><span style="font-family:arial\,sans-serif"><span style="font-size:36.0pt">Are You Struggling with<br />\nBalancing Responsibilities?</span></span></span><br />\n<span style="color:#0098DB"><span style="font-family:arialmt"><span style="font-size:19.0pt">It&rsquo\;s a challenge\, but it is possible to succeed.</span></span></span><br />\n<br />\n<span style="color:black"><span style="font-family:arialmt">&nbsp\;For many people\, balancing the responsibilities related to work\, family life and money is challenging. This seminar will help you focus on what&rsquo\;s important and how to improve the balance in your life. Since personal financial habits play a major role in successfully reaching that goal\, three solid financial habits are discussed in detail: </span></span>\n<ul>\n	<li><span style="font-family:arialmt">Determining your financial well-being score</span></li>\n	<li><span style="font-family:arialmt">Reviewing personal finances </span></li>\n	<li><span style="font-family:arialmt">Keeping big goals on track.</span></li>\n</ul>\n
LOCATION:Location: Cedar Hill Chamber of Commerce 300 Houston Street Cedar Hill\, TX 75104 Zoom: 529 441 7133 No Password Required
UID:e.1426.18049
SEQUENCE:3
DTSTAMP:20260423T183531Z
URL:https://www.cedarhillchamber.org/events/details/work-life-and-money-creating-a-living-financial-plan-workshop-18049
END:VEVENT

END:VCALENDAR
