BEGIN:VCALENDAR
VERSION:2.0
PRODID:-//ChamberMaster//Event Calendar 2.0//EN
METHOD:PUBLISH
X-PUBLISHED-TTL:P3D
REFRESH-INTERVAL:P3D
CALSCALE:GREGORIAN
BEGIN:VEVENT
DTSTART:20220908T133000Z
DTEND:20220908T190000Z
X-MICROSOFT-CDO-ALLDAYEVENT:FALSE
SUMMARY:Women's Business Council - Energy Industry Summit
DESCRIPTION:This half-day summit connects women-owned businesses with corporations in the oil\, gas\, and energy sectors. \n\nIt features networking\, moderated panel discussions\, a luncheon\, and exhibition highlighting corporate sponsors.
X-ALT-DESC;FMTTYPE=text/html:<p style="margin: 0px\; color: rgb(50\, 49\, 48)\; font-size: 11pt\; font-family: Calibri\, sans-serif\;"><span style="font-family: &quot\;Times New Roman&quot\;\, Times\, serif\; font-size: 12pt\;">This half-day summit connects women-owned businesses with corporations in the oil\, gas\, and energy sectors.&nbsp\;</span></p>\n\n<p style="margin: 0px\; color: rgb(50\, 49\, 48)\; font-size: 11pt\; font-family: Calibri\, sans-serif\;"><span style="font-family: &quot\;Times New Roman&quot\;\, Times\, serif\; font-size: 12pt\;">It features networking\, moderated panel discussions\, a luncheon\, and exhibition highlighting corporate sponsors.</span></p>\n
LOCATION:Midland\, TX
UID:e.1426.17856
SEQUENCE:3
DTSTAMP:20260423T215658Z
URL:https://www.cedarhillchamber.org/events/details/women-s-business-council-energy-industry-summit-17856
END:VEVENT

END:VCALENDAR
