BEGIN:VCALENDAR
VERSION:2.0
PRODID:-//ChamberMaster//Event Calendar 2.0//EN
METHOD:PUBLISH
X-PUBLISHED-TTL:P3D
REFRESH-INTERVAL:P3D
CALSCALE:GREGORIAN
BEGIN:VEVENT
DTSTART:20210507T170000Z
DTEND:20210507T180000Z
X-MICROSOFT-CDO-ALLDAYEVENT:FALSE
SUMMARY:Winners Smokehouse BBQ\, LLC Ribbon Cutting Ceremony
DESCRIPTION:
X-ALT-DESC;FMTTYPE=text/html:
LOCATION:1435 US HWY 67 Suite 200 Cedar Hill\, TX 75104
UID:e.1426.16507
SEQUENCE:3
DTSTAMP:20260424T223216Z
URL:https://www.cedarhillchamber.org/events/details/winners-smokehouse-bbq-llc-ribbon-cutting-ceremony-16507
END:VEVENT

END:VCALENDAR
