BEGIN:VCALENDAR
VERSION:2.0
PRODID:-//ChamberMaster//Event Calendar 2.0//EN
METHOD:PUBLISH
X-PUBLISHED-TTL:P3D
REFRESH-INTERVAL:P3D
CALSCALE:GREGORIAN
BEGIN:VEVENT
DTSTART:20210714T220000Z
DTEND:20210715T010000Z
X-MICROSOFT-CDO-ALLDAYEVENT:FALSE
SUMMARY:Wine & Cigar Night at Saviana Winery
DESCRIPTION:We are excited to partner with Cedar Hill's own Smoking Jacket Lounge for a Wine & Cigar night on the Saviana Patio! Come try your favorite Saviana Wine paired with one of the unique cigar options presented by The Smoking Jacket Lounge!
X-ALT-DESC;FMTTYPE=text/html:We are excited to partner with Cedar Hill&#39\;s own Smoking Jacket Lounge for a Wine &amp\; Cigar night on the Saviana Patio! Come try your favorite Saviana Wine paired with one of the unique cigar options presented by The Smoking Jacket Lounge!
LOCATION:Saviana Winery 316 Cooper St Cedar Hill\, TX 75104
UID:e.1426.16570
SEQUENCE:3
DTSTAMP:20260424T204558Z
URL:https://www.cedarhillchamber.org/events/details/wine-cigar-night-at-saviana-winery-16570
END:VEVENT

END:VCALENDAR
