BEGIN:VCALENDAR
VERSION:2.0
PRODID:-//ChamberMaster//Event Calendar 2.0//EN
METHOD:PUBLISH
X-PUBLISHED-TTL:P3D
REFRESH-INTERVAL:P3D
CALSCALE:GREGORIAN
BEGIN:VEVENT
DTSTART;VALUE=DATE:20210622
DTEND;VALUE=DATE:20210625
TRANSP:TRANSPARENT
X-MICROSOFT-CDO-ALLDAYEVENT:TRUE
SUMMARY:Wells Fargo R3 Bootcamp - "Retool\, Restore & Recover"
DESCRIPTION:USBC and Wells Fargo aim to challenge businesses to get back into shape! Be sure to RSVP for all Three!\n\n\n\n\n\n\nAbout this event\n\n\n\nThe R3 Boot Camp is designed for small and diverse-owned businesses to help the owners navigate the COVID-19 pandemic in developing business continuity strategies during these uncertain times.\n\nThe R3 Boot Camp will focus on the following:\n\nDay 1 \, June 22- Wells-Fargo "Retool Boot Camp" will focus on teaching participants on "retooling" their businesses by developing new and innovative go to market tactics to meet emerging needs.\n\nDigital Component - Marsha Lynn Hudson- The New Trends in Social Media for Entrepreneurs: A look at FB\, Instagram and LinkedIn\n\nDay 2\, June 23- Wells Fargo "Recover Boot Camp" will train participants on how to "recover" their businesses through targeted reopening plans\, workforce planning and customer acquisition strategies.\n\nDigital Component - Marsha Lynn Hudson Increase your following with content that will brand your business\n\nDay 3\, June 24 - Wells-Fargo "Restore Boot Camp" will help businesses develop a "restoration" strategy through long-term access to capital planning and network opportunities.\n\nDigital Component - Marsha Lynn Hudson How to grow your reach with email and stackable video marketing\n\nA brief survey will be administered following the Boot Camp.\n\n \n\nSee you at Boot Camp!
X-ALT-DESC;FMTTYPE=text/html:<div class="g-group l-lg-mar-bot-6 l-md-mar-bot-4  " style="margin: 0px 0px 30px\; padding: 0px\; font-size: 0px\; letter-spacing: 0px\; color: rgb(57\, 54\, 79)\; font-family: &quot\;Neue Plak&quot\;\, -apple-system\, BlinkMacSystemFont\, Roboto\, &quot\;Helvetica Neue&quot\;\, Helvetica\, Tahoma\, Arial\, sans-serif\;">\n<div class="g-cell g-cell-10-12 g-cell-md-1-1" style="margin: 0px\; padding: 0px 15px\; width: 560px\; box-sizing: border-box\; display: inline-block\; overflow: hidden\; vertical-align: top\; letter-spacing: 0.5px\; font-size: 0.933333rem\; line-height: 1.25rem\;">\n<div class="has-user-generated-content" style="margin: 0px\; padding: 0px\;">\n<div class="text-body-medium" data-automation="listing-event-description" style="margin: 0px\; padding: 0px\; font-size: 0.933333rem\; line-height: 1.25rem\;"><span style="font-weight: 700\; padding-top: 0px\;">USBC and Wells Fargo aim to challenge businesses to get back into shape! Be sure to RSVP for all Three!</span></div>\n</div>\n</div>\n</div>\n\n<div class="g-group l-mar-bot-6 l-sm-mar-bot-4" style="margin: 0px 0px 30px\; padding: 0px\; font-size: 0px\; letter-spacing: 0px\; color: rgb(57\, 54\, 79)\; font-family: &quot\;Neue Plak&quot\;\, -apple-system\, BlinkMacSystemFont\, Roboto\, &quot\;Helvetica Neue&quot\;\, Helvetica\, Tahoma\, Arial\, sans-serif\;">\n<div class="structured-content g-cell g-cell-10-12 g-cell-md-1-1" style="margin: 0px\; padding: 0px 15px\; width: 560px\; box-sizing: border-box\; display: inline-block\; overflow: hidden\; vertical-align: top\; letter-spacing: 0.5px\; font-size: 0.933333rem\; line-height: 1.25rem\;">\n<h2 class="text-body-large hide-small" style="margin: 0px -0.25px 0px 0px\; padding: 0px\; font-weight: 600\; font-size: 1.2rem\; line-height: 1.5rem\; letter-spacing: 0.25px\;">About this event</h2>\n\n<div class="has-user-generated-content" data-automation="about-this-event-sc" style="margin: 0px\; padding: 0px\;">\n<div class="structured-content-rich-text structured-content__module l-align-left l-mar-vert-6 l-sm-mar-vert-4 text-body-medium" style="margin: 30px 0px\; padding: 0px\; font-size: 0.933333rem\; line-height: 1.25rem\; text-rendering: optimizelegibility\;">\n<p style="margin: 0px\; padding: 0px\; color: rgb(111\, 114\, 135)\; font-size: 16px\; line-height: 1.5rem\;">The R3 Boot Camp is designed for small and diverse-owned businesses to help the owners navigate the COVID-19 pandemic in developing business continuity strategies during these uncertain times.</p>\n\n<p style="margin: 0px\; padding: 10px 0px 0px\; color: rgb(111\, 114\, 135)\; font-size: 16px\; line-height: 1.5rem\;">The R3 Boot Camp will focus on the following:</p>\n\n<p style="margin: 0px\; padding: 10px 0px 0px\; color: rgb(111\, 114\, 135)\; font-size: 16px\; line-height: 1.5rem\;"><span style="font-weight: 700\; padding-top: 0px\;">Day 1 \, June 22</span>- Wells-Fargo &ldquo\;Retool Boot Camp&rdquo\; will focus on teaching participants on &ldquo\;retooling&rdquo\; their businesses by developing new and innovative go to market tactics to meet emerging needs.</p>\n\n<p style="margin: 0px\; padding: 10px 0px 0px\; color: rgb(111\, 114\, 135)\; font-size: 16px\; line-height: 1.5rem\;"><em style="padding-top: 0px\;"><span style="font-weight: 700\; padding-top: 0px\;">Digital Component</span></em>&nbsp\;- Marsha Lynn Hudson- The New Trends in Social Media for Entrepreneurs: A look at FB\, Instagram and LinkedIn</p>\n\n<p style="margin: 0px\; padding: 10px 0px 0px\; color: rgb(111\, 114\, 135)\; font-size: 16px\; line-height: 1.5rem\;"><span style="font-weight: 700\; padding-top: 0px\;">Day 2\, June 23</span>- Wells Fargo &ldquo\;Recover Boot Camp&ldquo\; will train participants on how to &ldquo\;recover&rdquo\; their businesses through targeted reopening plans\, workforce planning and customer acquisition strategies.</p>\n\n<p style="margin: 0px\; padding: 10px 0px 0px\; color: rgb(111\, 114\, 135)\; font-size: 16px\; line-height: 1.5rem\;"><em style="padding-top: 0px\;"><span style="font-weight: 700\; padding-top: 0px\;">Digital Component</span></em>&nbsp\;- Marsha Lynn Hudson Increase your following with content that will brand your business</p>\n\n<p style="margin: 0px\; padding: 10px 0px 0px\; color: rgb(111\, 114\, 135)\; font-size: 16px\; line-height: 1.5rem\;"><span style="font-weight: 700\; padding-top: 0px\;">Day 3\, June 24</span>&nbsp\;- Wells-Fargo &ldquo\;Restore Boot Camp&rdquo\; will help businesses develop a &ldquo\;restoration&rdquo\; strategy through long-term access to capital planning and network opportunities.</p>\n\n<p style="margin: 0px\; padding: 10px 0px 0px\; color: rgb(111\, 114\, 135)\; font-size: 16px\; line-height: 1.5rem\;"><em style="padding-top: 0px\;"><span style="font-weight: 700\; padding-top: 0px\;">Digital Component</span></em>&nbsp\;- Marsha Lynn Hudson How to grow your reach with email and stackable video marketing</p>\n\n<p style="margin: 0px\; padding: 10px 0px 0px\; color: rgb(111\, 114\, 135)\; font-size: 16px\; line-height: 1.5rem\;"><em style="padding-top: 0px\;"><span style="font-weight: 700\; padding-top: 0px\;">A brief survey will be administered following the Boot Camp.</span></em></p>\n\n<p style="margin: 0px\; padding: 10px 0px 0px\; color: rgb(111\, 114\, 135)\; font-size: 16px\; line-height: 1.5rem\;">&nbsp\;</p>\n\n<p style="margin: 0px\; padding: 10px 0px 0px\; color: rgb(111\, 114\, 135)\; font-size: 16px\; line-height: 1.5rem\;">See you at Boot Camp!</p>\n</div>\n</div>\n</div>\n</div>\n
LOCATION:
UID:e.1426.16575
SEQUENCE:3
DTSTAMP:20260424T204718Z
URL:https://www.cedarhillchamber.org/events/details/wells-fargo-r3-bootcamp-retool-restore-recover-16575
END:VEVENT

END:VCALENDAR
