BEGIN:VCALENDAR
VERSION:2.0
PRODID:-//ChamberMaster//Event Calendar 2.0//EN
METHOD:PUBLISH
X-PUBLISHED-TTL:P3D
REFRESH-INTERVAL:P3D
CALSCALE:GREGORIAN
BEGIN:VEVENT
DTSTART:20260516T140000Z
DTEND:20260516T170000Z
X-MICROSOFT-CDO-ALLDAYEVENT:FALSE
SUMMARY:Volunteer Habitat Workday
DESCRIPTION:We have the tools (and gloves\, if you don't have your own)\, we just need you! What a great way to start off the day! You will be outside in our beautiful preserve\, enjoying the sunshine and cool breeze while you make a difference for our birds. Open to the public\, ages 12 and up. Dogwood Canyon Audubon Center is a Texan by Nature conservation partner.
X-ALT-DESC;FMTTYPE=text/html:We have the tools (and gloves\, if you don&#39\;t have your own)\, we just need you! What a great way to start off the day! You will be outside in our beautiful preserve\, enjoying the sunshine and cool breeze while you make a difference for our birds. Open to the public\, ages 12 and up. Dogwood Canyon Audubon Center is a Texan by Nature conservation partner.
LOCATION:Dogwood Canyon Audubon Center 1206 W FM 1382\, Cedar Hill\, TX 75104
UID:e.1426.20607
SEQUENCE:3
DTSTAMP:20260423T213117Z
URL:https://www.cedarhillchamber.org/events/details/volunteer-habitat-workday-05-16-2026-20607
END:VEVENT

END:VCALENDAR
