BEGIN:VCALENDAR
VERSION:2.0
PRODID:-//ChamberMaster//Event Calendar 2.0//EN
METHOD:PUBLISH
X-PUBLISHED-TTL:P3D
REFRESH-INTERVAL:P3D
CALSCALE:GREGORIAN
BEGIN:VEVENT
DTSTART:20231118T233000Z
DTEND:20231119T013000Z
X-MICROSOFT-CDO-ALLDAYEVENT:FALSE
SUMMARY:Village Lights
DESCRIPTION:Hillside Village kicks off the holiday season on Saturday\, Nov. 18 from 5:30 to 7:30 p.m. with its Village Lights festival\, featuring the annual Magical Tree Lighting and Santa's Arrival. KDGE-FM will kick off the festivities at 5:30 p.m. Guests can enjoy a real 10  snow slide\, holiday crafts\, face painting\, balloon artists\, and much more.\n\nComplimentary snow slide will be available until 7:30 p.m. At 7:30 p.m.\, Santa will arrive and flip the switch to illuminate the 100\,000 lights on Hillside Village's 30-foot\, interactive tree. Located in the Village Green\, the tree is programmed to play a holiday music every 20 minutes\, synchronized with dancing lights.\n\nAfter Santa's Arrival\, he will be available for visits and photos at Santa's Corner\, Suite 406 until 8:30pm!
X-ALT-DESC;FMTTYPE=text/html:<p>Hillside Village kicks off the holiday season on Saturday\, Nov. 18 from 5:30 to 7:30 p.m. with its Village Lights festival\, featuring the annual Magical Tree Lighting and Santa&rsquo\;s Arrival. KDGE-FM will kick off the festivities at 5:30 p.m. Guests can enjoy a real 10&prime\; snow slide\, holiday crafts\, face painting\, balloon artists\, and much more.</p>\n\n<p>Complimentary snow slide will be available until 7:30 p.m. At 7:30 p.m.\, Santa will arrive and flip the switch to illuminate the 100\,000 lights on Hillside Village&rsquo\;s 30-foot\, interactive tree. Located in the Village Green\, the tree is programmed to play a holiday music every 20 minutes\, synchronized with dancing lights.</p>\n\n<p>After Santa&rsquo\;s Arrival\, he will be available for visits and photos at Santa&rsquo\;s Corner\, Suite 406 until 8:30pm!</p>\n
LOCATION:Hillside Village
UID:e.1426.18620
SEQUENCE:3
DTSTAMP:20260424T062300Z
URL:https://www.cedarhillchamber.org/events/details/village-lights-11-18-2023-18620
END:VEVENT

END:VCALENDAR
