BEGIN:VCALENDAR
VERSION:2.0
PRODID:-//ChamberMaster//Event Calendar 2.0//EN
METHOD:PUBLISH
X-PUBLISHED-TTL:P3D
REFRESH-INTERVAL:P3D
CALSCALE:GREGORIAN
BEGIN:VEVENT
DTSTART:20221117T230000Z
DTEND:20221118T010000Z
X-MICROSOFT-CDO-ALLDAYEVENT:FALSE
SUMMARY:VIBE @ 5
DESCRIPTION:
X-ALT-DESC;FMTTYPE=text/html:
LOCATION:Red Robin Gourmet Burgers & Brews 229 N Hwy 67 Cedar Hill\, TX 75104
UID:e.1426.17049
SEQUENCE:3
DTSTAMP:20260423T180939Z
URL:https://www.cedarhillchamber.org/events/details/vibe-5-17049
END:VEVENT

END:VCALENDAR
