BEGIN:VCALENDAR
VERSION:2.0
PRODID:-//ChamberMaster//Event Calendar 2.0//EN
METHOD:PUBLISH
X-PUBLISHED-TTL:P3D
REFRESH-INTERVAL:P3D
CALSCALE:GREGORIAN
BEGIN:VEVENT
DTSTART:20220818T220000Z
DTEND:20220819T000000Z
X-MICROSOFT-CDO-ALLDAYEVENT:FALSE
SUMMARY:VIBE @ 5
DESCRIPTION:VIBE @ 5 stands for 'Very Important Business Event.' What is that\, you ask? Why\, it's happy hour! Join us for this evening mixer at a member business to build and strengthen your relationships in the community.
X-ALT-DESC;FMTTYPE=text/html:VIBE @ 5 stands for &#39\;Very Important Business Event.&#39\; What is that\, you ask? Why\, it&#39\;s happy hour! Join us for this evening mixer at a member business to build and strengthen your relationships in the community.
LOCATION:Veracruz Cafe 1427 S Hwy 67 Cedar Hill\, TX 75014
UID:e.1426.17048
SEQUENCE:3
DTSTAMP:20260423T214104Z
URL:https://www.cedarhillchamber.org/events/details/vibe-5-17048
END:VEVENT

END:VCALENDAR
