BEGIN:VCALENDAR
VERSION:2.0
PRODID:-//ChamberMaster//Event Calendar 2.0//EN
METHOD:PUBLISH
X-PUBLISHED-TTL:P3D
REFRESH-INTERVAL:P3D
CALSCALE:GREGORIAN
BEGIN:VEVENT
DTSTART:20210616T170000Z
DTEND:20210616T180000Z
X-MICROSOFT-CDO-ALLDAYEVENT:FALSE
SUMMARY:Trancasa Ribbon Cutting Ceremony
DESCRIPTION:Help us welcome Trancasa to our business community at a ribbon cutting ceremony!
X-ALT-DESC;FMTTYPE=text/html:Help us welcome Trancasa to our business community at a ribbon cutting ceremony!
LOCATION:1230 S Hwy 67 Cedar Hill\, TX 75104
UID:e.1426.16547
SEQUENCE:3
DTSTAMP:20260424T204451Z
URL:https://www.cedarhillchamber.org/events/details/trancasa-ribbon-cutting-ceremony-16547
END:VEVENT

END:VCALENDAR
