BEGIN:VCALENDAR
VERSION:2.0
PRODID:-//ChamberMaster//Event Calendar 2.0//EN
METHOD:PUBLISH
X-PUBLISHED-TTL:P3D
REFRESH-INTERVAL:P3D
CALSCALE:GREGORIAN
BEGIN:VEVENT
DTSTART:20210604T170000Z
DTEND:20210604T210000Z
X-MICROSOFT-CDO-ALLDAYEVENT:FALSE
SUMMARY:Trancasa BBQ Hiring Event
DESCRIPTION:Join the Trancasa Team!\n\nDallas\, Texas Hiring Event\n\n	OTR\n	TX\n	Traffic Controllers\n	Logistics Dispatcher\n	Diesel Mechanic\n\n\n\nComplimentary BBQ.
X-ALT-DESC;FMTTYPE=text/html:Join the Trancasa Team!<br />\nDallas\, Texas Hiring Event\n<ul>\n	<li>OTR</li>\n	<li>TX</li>\n	<li>Traffic Controllers</li>\n	<li>Logistics Dispatcher</li>\n	<li>Diesel Mechanic</li>\n</ul>\n<br />\nComplimentary BBQ.
LOCATION:1230 S Hwy 67 Cedar Hill\, TX 75104
UID:e.1426.16549
SEQUENCE:3
DTSTAMP:20260424T204414Z
URL:https://www.cedarhillchamber.org/events/details/trancasa-bbq-hiring-event-16549
END:VEVENT

END:VCALENDAR
