BEGIN:VCALENDAR
VERSION:2.0
PRODID:-//ChamberMaster//Event Calendar 2.0//EN
METHOD:PUBLISH
X-PUBLISHED-TTL:P3D
REFRESH-INTERVAL:P3D
CALSCALE:GREGORIAN
BEGIN:VEVENT
DTSTART;VALUE=DATE:20211115
DTEND;VALUE=DATE:20211116
TRANSP:TRANSPARENT
X-MICROSOFT-CDO-ALLDAYEVENT:TRUE
SUMMARY:TotalCare Emergency Room Grand Opening
DESCRIPTION:Sometimes it CAN'T wait! TotalCare is proud to offer a fully equipped Emergency Room in Cedar Hill and surrounding areas. Our highly trained Emergency Physicians and Staff are ready 24 hours a day\, 7 days a week\, 365 days a year. We offer onsite imaging (CT Scan\, Ultrasound\, and XRAY) and an onsite lab for your convenience. No Insurance? High Deductible? No Problem! We offer very competitive self-pay rates.
X-ALT-DESC;FMTTYPE=text/html:<span style="color:rgb(102\, 102\, 102)\; font-family:montserrat\; font-size:16px">Sometimes it CAN&rsquo\;T wait! TotalCare is proud to offer a fully equipped Emergency Room in Cedar Hill and surrounding areas. Our highly trained Emergency Physicians and Staff are ready 24 hours a day\, 7 days a week\, 365 days a year. We offer onsite imaging (CT Scan\, Ultrasound\, and XRAY) and an onsite lab for your convenience. No Insurance? High Deductible? No Problem! We offer very competitive self-pay rates.</span>
LOCATION:850 N Hwy 67 Cedar Hill\, TX 75104
UID:e.1426.17088
SEQUENCE:3
DTSTAMP:20260424T125422Z
URL:https://www.cedarhillchamber.org/events/details/totalcare-emergency-room-grand-opening-17088
END:VEVENT

END:VCALENDAR
