BEGIN:VCALENDAR
VERSION:2.0
PRODID:-//ChamberMaster//Event Calendar 2.0//EN
METHOD:PUBLISH
X-PUBLISHED-TTL:P3D
REFRESH-INTERVAL:P3D
CALSCALE:GREGORIAN
BEGIN:VEVENT
DTSTART:20230811T220000Z
DTEND:20230812T000000Z
X-MICROSOFT-CDO-ALLDAYEVENT:FALSE
SUMMARY:The Wine Down: Ribbon Cutting and Anniversary Mixer
DESCRIPTION:I am excited to formally introduce The Aura House to the Cedar Hill community with our studio ribbon cutting.\n\n\n\nJoin us at "The Wine Down" for our ribbon cutting and 6-month anniversary mixer.\n\n\n\nWith wine and light bites\, come take a moment to relax and learn about our offerings and get to know me\, studio owner\, Helsa Thompson.\n\n\n\nI will also lead us in a guided meditation and sound bath for an Aura House experience.
X-ALT-DESC;FMTTYPE=text/html:<span style="color:rgb(0\, 0\, 0)\; font-family:-apple-system\,system-ui\,segoe ui\,roboto\,helvetica\,arial\,sans-serif\; font-size:14px">I am excited to formally introduce The Aura House to the Cedar Hill community with our studio ribbon cutting.</span><br />\n<br />\n<span style="color:rgb(0\, 0\, 0)\; font-family:-apple-system\,system-ui\,segoe ui\,roboto\,helvetica\,arial\,sans-serif\; font-size:14px">Join us at &quot\;The Wine Down&quot\; for our ribbon cutting and 6-month anniversary mixer.</span><br />\n<br />\n<span style="color:rgb(0\, 0\, 0)\; font-family:-apple-system\,system-ui\,segoe ui\,roboto\,helvetica\,arial\,sans-serif\; font-size:14px">With wine and light bites\, come take a moment to relax and learn about our offerings and get to know me\, studio owner\, Helsa Thompson.</span><br />\n<br />\n<span style="color:rgb(0\, 0\, 0)\; font-family:-apple-system\,system-ui\,segoe ui\,roboto\,helvetica\,arial\,sans-serif\; font-size:14px">I will also lead us in a guided meditation and sound bath for an Aura House experience.</span>
LOCATION:The Aura House 917 N. Joe Wilson Rd. Unit B101 Cedar Hill\, TX 75104
UID:e.1426.18196
SEQUENCE:3
DTSTAMP:20260424T051036Z
URL:https://www.cedarhillchamber.org/events/details/the-wine-down-ribbon-cutting-and-anniversary-mixer-18196
END:VEVENT

END:VCALENDAR
