BEGIN:VCALENDAR
VERSION:2.0
PRODID:-//ChamberMaster//Event Calendar 2.0//EN
METHOD:PUBLISH
X-PUBLISHED-TTL:P3D
REFRESH-INTERVAL:P3D
CALSCALE:GREGORIAN
BEGIN:VEVENT
DTSTART:20240829T133000Z
DTEND:20240829T153000Z
X-MICROSOFT-CDO-ALLDAYEVENT:FALSE
SUMMARY:The Peach Truck Tour
DESCRIPTION:The Peach Truck is coming to Hillside Village in Cedar Hill\, TX! We can't wait for the freshest peaches you can find. Each peach on the truck is shipped within hours of being picked off the tree. You can't beat that freshness!\n\n\nYou'll need to pre-order your peaches in advance\, but they make it easy. Just visit\, Where We Are This Week - The Peach Truck  select us as your pickup location and place your pre-order. Pre-orders will close 5 days before they are here\, so check it out today!\n\n\nHave questions? Visit  Help Center to learn more!
X-ALT-DESC;FMTTYPE=text/html:<!-- wp:paragraph -->\n<p>The Peach Truck is coming to <a href="https://shophillsidevillage.com/">Hillside Village in Cedar Hill\, TX</a>! We can&rsquo\;t wait for the freshest peaches you can find. Each peach on the truck is shipped within hours of being picked off the tree. You can&rsquo\;t beat that freshness!</p>\n<!-- /wp:paragraph --><!-- wp:paragraph -->\n\n<p>You&rsquo\;ll need to pre-order your peaches in advance\, but they make it easy. Just visit\, <strong><a href="https://thepeachtruck.com/pages/where-we-are-this-week">Where We Are This Week - The Peach Truck</a> </strong> select us as your pickup location and place your pre-order. Pre-orders will close 5 days before they are here\, so check it out today!</p>\n<!-- /wp:paragraph --><!-- wp:paragraph -->\n\n<p>Have questions? Visit <a href="https://help.thepeachtruck.com/en-US"> Help Center</a> to learn more!</p>\n<!-- /wp:paragraph -->
LOCATION:Hillside Village
UID:e.1426.19905
SEQUENCE:3
DTSTAMP:20260423T112906Z
URL:https://www.cedarhillchamber.org/events/details/the-peach-truck-tour-08-29-2024-19905
END:VEVENT

END:VCALENDAR
