BEGIN:VCALENDAR
VERSION:2.0
PRODID:-//ChamberMaster//Event Calendar 2.0//EN
METHOD:PUBLISH
X-PUBLISHED-TTL:P3D
REFRESH-INTERVAL:P3D
CALSCALE:GREGORIAN
BEGIN:VEVENT
DTSTART:20210806T130000Z
DTEND:20210806T140000Z
X-MICROSOFT-CDO-ALLDAYEVENT:FALSE
SUMMARY:TGIF Legislative Breakfast Series
DESCRIPTION:The Best Southwest Partnership is proud to announce the line-up for its 2021 T.G.I.F. Legislative Breakfast Series. Again\, the series promises to present an informative event on the 87th Texas Legislative Session for 2021. As part of the BSWP 2021 Program of Work\, the Partnership will host its annual\, and always popular\, T.G.I.F. Legislative Breakfast Series. The series occurs on Friday mornings in the month of August. This year each event will rotate locations to be hosted by each of the Founding Cities of the Best Southwest Partnership.\n\n\n\nThe Government Affairs Committee of the Partnership is planning on each of the event(s) to be hybrid with select speakers being virtual while the event moderator\, The Honorable Dr. Michael Williams of UNT Dallas\, and select members of the audience being in person as well as a broader audience viewing on Facebook Live\n\n\n\nThe date\, speaker\, and host city line-up includes:\n\n	08.06 Representative Carl Sherman\, Sr (District 109)\n	\n		Alan E. Sims Recreation Center\, Cedar Hill\n	\n	\n	08.13 US Congresswoman Eddie B Johnson (District 30)\n	\n		Lancaster Recreation Center\, Lancaster\n	\n	\n	08.20 Senator Royce West (District 23)\n	\n		Duncanville Field House\, Duncanville\n	\n	\n	08.27 The Texas Tribune Founder Ross Ramsey\n	\n		DeSoto Civic Center\, DeSoto\n	\n	\n\nOn behalf of the Board of Directors of the Best Southwest Partnership\, we welcome you to join us.
X-ALT-DESC;FMTTYPE=text/html:The Best Southwest Partnership is proud to announce the line-up for its 2021 T.G.I.F. Legislative Breakfast Series. Again\, the series promises to present an informative event on the 87th Texas Legislative Session for 2021. As part of the BSWP 2021 Program of Work\, the Partnership will host its annual\, and always popular\, T.G.I.F. Legislative Breakfast Series. The series occurs on Friday mornings in the month of August. This year each event will rotate locations to be hosted by each of the Founding Cities of the Best Southwest Partnership.<br />\n<br />\nThe Government Affairs Committee of the Partnership is planning on each of the event(s) to be hybrid with select speakers being virtual while the event moderator\, The Honorable Dr. Michael Williams of UNT Dallas\, and select members of the audience being in person as well as a broader audience viewing on Facebook Live<br />\n<br />\nThe date\, speaker\, and host city line-up includes:\n<ul>\n	<li>08.06 Representative Carl Sherman\, Sr (District 109)\n	<ul>\n		<li>Alan E. Sims Recreation Center\, Cedar Hill</li>\n	</ul>\n	</li>\n	<li>08.13 US Congresswoman Eddie B Johnson (District 30)\n	<ul>\n		<li>Lancaster Recreation Center\, Lancaster</li>\n	</ul>\n	</li>\n	<li>08.20 Senator Royce West (District 23)\n	<ul>\n		<li>Duncanville Field House\, Duncanville</li>\n	</ul>\n	</li>\n	<li>08.27 The Texas Tribune Founder Ross Ramsey\n	<ul>\n		<li>DeSoto Civic Center\, DeSoto</li>\n	</ul>\n	</li>\n</ul>\nOn behalf of the Board of Directors of the Best Southwest Partnership\, we welcome you to join us.
LOCATION:Alan E Sims Cedar Hill Recreation Center 310 E Parkerville Rd Cedar Hill\, TX 75104 Registration required for in person guests
UID:e.1426.16941
SEQUENCE:3
DTSTAMP:20260424T190708Z
URL:https://www.cedarhillchamber.org/events/details/tgif-legislative-breakfast-series-16941
END:VEVENT

END:VCALENDAR
