BEGIN:VCALENDAR
VERSION:2.0
PRODID:-//ChamberMaster//Event Calendar 2.0//EN
METHOD:PUBLISH
X-PUBLISHED-TTL:P3D
REFRESH-INTERVAL:P3D
CALSCALE:GREGORIAN
BEGIN:VEVENT
DTSTART:20220706T220000Z
DTEND:20220707T020000Z
X-MICROSOFT-CDO-ALLDAYEVENT:FALSE
SUMMARY:TagTeam's 5 Year Celebration!
DESCRIPTION:TagTeam Tutoring celebrates 5 years of Building Academic Confidence and Knowledge!!!! Join us as we celebrate 5 years of your support!!\n\n\n\nAbout this event\n\n\n\n\nThis is a free adult only event.\n\nAttire: Summer Cool\, Cute\, and Classy\n\nPlease be sure to secure your ticket to ensure your entry!!! \n\nSee you there!
X-ALT-DESC;FMTTYPE=text/html:<div class="eds-l-mar-bot-8" style="margin: 0px 0px 32px\; padding: 0px\; color: rgb(57\, 54\, 79)\; font-family: &quot\;Neue Plak&quot\;\, -apple-system\, BlinkMacSystemFont\, Roboto\, &quot\;Helvetica Neue&quot\;\, Helvetica\, Tahoma\, Arial\, sans-serif\; font-size: 14.9333px\; letter-spacing: 0.5px\;">\n<p class="eds-text-bm" style="margin: 0px\; padding: 0px\; text-rendering: optimizelegibility\; font-size: 0.875rem\; line-height: 1.25rem\;"><span style="font-weight: 700\;">TagTeam Tutoring celebrates 5 years of Building Academic Confidence and Knowledge!!!! Join us as we celebrate 5 years of your support!!</span></p>\n</div>\n\n<div class="eds-l-mar-bot-8 structured-content" style="margin: 0px 0px 32px\; padding: 0px\; color: rgb(57\, 54\, 79)\; font-family: &quot\;Neue Plak&quot\;\, -apple-system\, BlinkMacSystemFont\, Roboto\, &quot\;Helvetica Neue&quot\;\, Helvetica\, Tahoma\, Arial\, sans-serif\; font-size: 14.9333px\; letter-spacing: 0.5px\;">\n<h2 class="eds-text-bl eds-l-mar-bot-4" style="margin: 0px -0.25px 16px 0px\; padding: 0px\; text-rendering: optimizelegibility\; font-size: 1.125rem\; line-height: 1.5rem\; letter-spacing: 0.25px\; font-weight: 600\;">About this event</h2>\n\n<div class="has-user-generated-content" style="margin: 0px\; padding: 0px\;">\n<div class="eds-l-mar-vert-6 eds-l-sm-mar-vert-4 eds-text-bm structured-content-rich-text" style="margin: 24px 0px\; padding: 0px\; text-rendering: optimizelegibility\; font-size: 0.875rem\; line-height: 1.25rem\;">\n<div class="eds-text--left" style="margin: 0px\; padding: 0px\;">\n<p style="margin: 0px\; padding: 0px\; color: rgb(111\, 114\, 135)\; font-size: 16px\; line-height: 1.5rem\;"><span style="font-weight: 700\; padding-top: 0px\;">This is a free adult only event.</span></p>\n\n<p style="margin: 0px\; padding: 10px 0px 0px\; color: rgb(111\, 114\, 135)\; font-size: 16px\; line-height: 1.5rem\;"><span style="font-weight: 700\; padding-top: 0px\;">Attire</span>: Summer Cool\, Cute\, and Classy</p>\n\n<p style="margin: 0px\; padding: 10px 0px 0px\; color: rgb(111\, 114\, 135)\; font-size: 16px\; line-height: 1.5rem\;">Please be sure to secure your ticket to ensure your entry!!!&nbsp\;</p>\n\n<p style="margin: 0px\; padding: 10px 0px 0px\; color: rgb(111\, 114\, 135)\; font-size: 16px\; line-height: 1.5rem\;">See you there!</p>\n</div>\n</div>\n</div>\n</div>\n
LOCATION:The Hamptons Event Venue 196 Interstate 35E Red Oak\, TX 75154
UID:e.1426.17742
SEQUENCE:3
DTSTAMP:20260423T233220Z
URL:https://www.cedarhillchamber.org/events/details/tagteam-s-5-year-celebration-17742
END:VEVENT

END:VCALENDAR
