BEGIN:VCALENDAR
VERSION:2.0
PRODID:-//ChamberMaster//Event Calendar 2.0//EN
METHOD:PUBLISH
X-PUBLISHED-TTL:P3D
REFRESH-INTERVAL:P3D
CALSCALE:GREGORIAN
BEGIN:VEVENT
DTSTART:20210323T163000Z
DTEND:20210323T180000Z
X-MICROSOFT-CDO-ALLDAYEVENT:FALSE
SUMMARY:State of the Chamber
DESCRIPTION:Our annual meeting is here! Join us to hear about the successes in 2020 and our goals for 2021.
X-ALT-DESC;FMTTYPE=text/html:Our annual meeting is here! Join us to hear about the successes in 2020 and our goals for 2021.
LOCATION:
UID:e.1426.16346
SEQUENCE:3
DTSTAMP:20260425T020827Z
URL:https://www.cedarhillchamber.org/events/details/state-of-the-chamber-16346
END:VEVENT

END:VCALENDAR
