BEGIN:VCALENDAR
VERSION:2.0
PRODID:-//ChamberMaster//Event Calendar 2.0//EN
METHOD:PUBLISH
X-PUBLISHED-TTL:P3D
REFRESH-INTERVAL:P3D
CALSCALE:GREGORIAN
BEGIN:VEVENT
DTSTART:20200118T000000Z
DTEND:20200119T030000Z
X-MICROSOFT-CDO-ALLDAYEVENT:FALSE
SUMMARY:Stars & S'mores
DESCRIPTION:Our popular annual sell-out event is expanding to two evenings! Come see the stars\, hear the owls\, and explore Dogwood Canyon at night. We'll roast s'mores around the campfire and telescopes will be available for night sky viewing (weather permitting). Plus\, we'll have hot chocolate and other activities available including animal encounters and discount shopping in our gift shop! Read all of the details about this event at our website. We've made improvements to the booking process\, allowing participants to select which group hike to join. We've also added opportunities to join longer adult-only (18+) guided hikes and we will have more adult-centric activities onsite\, such as Giant Jenga. Audubon Texas is a Texan by Nature Conservation Partner.
X-ALT-DESC;FMTTYPE=text/html:Our popular annual sell-out event is expanding to two evenings! Come see the stars\, hear the owls\, and explore Dogwood Canyon at night. We&#39\;ll roast s&#39\;mores around the campfire and telescopes will be available for night sky viewing (weather permitting). Plus\, we&#39\;ll have hot chocolate and other activities available including animal encounters and discount shopping in our gift shop! Read all of the details about this event at our <a href="https://dogwood.audubon.org/starsandsmores">website</a>. We&#39\;ve made improvements to the booking process\, allowing participants to select which group hike to join. We&#39\;ve also added opportunities to join longer adult-only (18+) guided hikes and we will have more adult-centric activities onsite\, such as Giant Jenga. Audubon Texas is a Texan by Nature Conservation Partner.
LOCATION:Dogwood Canyon Audubon Center
UID:e.1426.15825
SEQUENCE:3
DTSTAMP:20260426T014124Z
URL:https://www.cedarhillchamber.org/events/details/stars-s-mores-01-17-2020-15825
END:VEVENT

END:VCALENDAR
