BEGIN:VCALENDAR
VERSION:2.0
PRODID:-//ChamberMaster//Event Calendar 2.0//EN
METHOD:PUBLISH
X-PUBLISHED-TTL:P3D
REFRESH-INTERVAL:P3D
CALSCALE:GREGORIAN
BEGIN:VEVENT
DTSTART;VALUE=DATE:20240316
DTEND;VALUE=DATE:20240317
TRANSP:TRANSPARENT
X-MICROSOFT-CDO-ALLDAYEVENT:TRUE
SUMMARY:Spring into Rewards
DESCRIPTION:MARCH 15   MARCH 24\n\nThings are looking sunny here at Hillside Village\, with blooming deals and promotions. Starting March 15\, spend $125 in same receipts at one of our apparel/shoes stores to be entered to win a drawing for one of six $50 gift cards to a participating apparel store of your choice. Simply take a photo of your receipts and email them to hillsiderewards@gmail.com. Be sure to leave your contact information. \n\nSee official rules at shophillsidevillage.com
X-ALT-DESC;FMTTYPE=text/html:<p>MARCH 15 &ndash\; MARCH 24</p>\n\n<p>Things are looking sunny here at Hillside Village\, with blooming deals and promotions. Starting March 15\, spend $125 in same receipts at one of our&nbsp\;<a href="https://shophillsidevillage.com/shopping-and-dining/" style="box-sizing: inherit\; background-color: transparent\; text-decoration-line: none\; line-height: inherit\; cursor: pointer\; box-shadow: none\; border: none\; padding: 0px\; color: rgb(34\, 34\, 34) !important\;">apparel/shoes stores</a>&nbsp\;to be entered to win a drawing for one of six $50 gift cards to a participating apparel store of your choice. Simply take a photo of your receipts and email them to hillsiderewards@gmail.com. Be sure to leave your contact information.&nbsp\;</p>\n\n<p>See official rules at <a href="https://shophillsidevillage.com/events/">shophillsidevillage.com&nbsp\;</a></p>\n
LOCATION:Hillside Village
UID:e.1426.18908
SEQUENCE:3
DTSTAMP:20260423T214539Z
URL:https://www.cedarhillchamber.org/events/details/spring-into-rewards-03-16-2024-18908
END:VEVENT

END:VCALENDAR
