BEGIN:VCALENDAR
VERSION:2.0
PRODID:-//ChamberMaster//Event Calendar 2.0//EN
METHOD:PUBLISH
X-PUBLISHED-TTL:P3D
REFRESH-INTERVAL:P3D
CALSCALE:GREGORIAN
BEGIN:VEVENT
DTSTART:20230603T180000Z
DTEND:20230603T200000Z
X-MICROSOFT-CDO-ALLDAYEVENT:FALSE
SUMMARY:Splash Pad Palooza
DESCRIPTION:Hillside Village invites families and children 10 or under 48" to help us celebrate the reopening of our interactive fountain.  Kids can enjoy interactive DJ with games\, crafts\, refreshments\, and giveaways to the first 200 registered guests.
X-ALT-DESC;FMTTYPE=text/html:<span style="font-family:calibri\,sans-serif"><span style="font-size:11.0pt">Hillside Village invites families and children 10 or under 48&rdquo\; to help us celebrate the reopening of our interactive fountain. &nbsp\;Kids can enjoy interactive DJ with games\, crafts\, refreshments\, and giveaways to the first 200 registered guests.&nbsp\;</span></span>
LOCATION:VILLAGE GREEN
UID:e.1426.18125
SEQUENCE:3
DTSTAMP:20260424T014409Z
URL:https://www.cedarhillchamber.org/events/details/splash-pad-palooza-18125
END:VEVENT

END:VCALENDAR
