BEGIN:VCALENDAR
VERSION:2.0
PRODID:-//ChamberMaster//Event Calendar 2.0//EN
METHOD:PUBLISH
X-PUBLISHED-TTL:P3D
REFRESH-INTERVAL:P3D
CALSCALE:GREGORIAN
BEGIN:VEVENT
DTSTART:20240413T160000Z
DTEND:20240413T200000Z
X-MICROSOFT-CDO-ALLDAYEVENT:FALSE
SUMMARY:Southwest Dallas County Chapter of Delta Sigma Theta Sorority\, Inc.\, Health & Wellness community fair
DESCRIPTION:Join us on April 13\, 2024\, from 11 am to 3 p.m. for the Southwest Dallas County Chapter of Delta Sigma Theta Sorority\, Inc.\, for their Inaugural Health & Wellness community fair! Discover a wide range of resources that can help you lead a healthier lifestyle. We have partnered with top-notch vendors who specialize in medical\, mental\, and physical health. We are pleased to announce a captivating and enjoyable day for families\, complete with a variety of activities and games tailored specifically for children. In addition to that\, we're super excited to let you know that we'll be putting a big emphasis on promoting health and wellness! We'll be going all out by organizing a screening clinic and a panel discussion with some amazing local doctors\, dentists\, and optometrists. It's going to be a great opportunity to learn and get some expert advice on how to take care of ourselves. Can't wait to see you there! We will close the day by engaging in various activities to invigorate our bodies and minds. These activities will include practicing yoga\, performing stretches\, and\, to add a touch of excitement\, participating in the energetic art of line dancing. We're seeking vendors and sponsorships to be part of our mission to serve the community. Don't miss out on this enriching experience! #SWDCAHWCF #SWDCAcares #swdcaLIVEWELL #swdcaCOMMUNITY
X-ALT-DESC;FMTTYPE=text/html:Join us on April 13\, 2024\, from 11 am to 3 p.m. for the Southwest Dallas County Chapter of Delta Sigma Theta Sorority\, Inc.\, for their Inaugural Health &amp\; Wellness community fair! Discover a wide range of resources that can help you lead a healthier lifestyle. We have partnered with top-notch vendors who specialize in medical\, mental\, and physical health. We are pleased to announce a captivating and enjoyable day for families\, complete with a variety of activities and games tailored specifically for children. In addition to that\, we&#39\;re super excited to let you know that we&#39\;ll be putting a big emphasis on promoting health and wellness! We&#39\;ll be going all out by organizing a screening clinic and a panel discussion with some amazing local doctors\, dentists\, and optometrists. It&#39\;s going to be a great opportunity to learn and get some expert advice on how to take care of ourselves. Can&#39\;t wait to see you there! We will close the day by engaging in various activities to invigorate our bodies and minds. These activities will include practicing yoga\, performing stretches\, and\, to add a touch of excitement\, participating in the energetic art of line dancing. We&#39\;re seeking vendors and sponsorships to be part of our mission to serve the community. Don&#39\;t miss out on this enriching experience! #SWDCAHWCF #SWDCAcares #swdcaLIVEWELL #swdcaCOMMUNITY
LOCATION:Shops at Redbird
UID:e.1426.18636
SEQUENCE:3
DTSTAMP:20260423T181621Z
URL:https://www.cedarhillchamber.org/events/details/southwest-dallas-county-chapter-of-delta-sigma-theta-sorority-inc-health-wellness-community-fair-18636
END:VEVENT

END:VCALENDAR
