BEGIN:VCALENDAR
VERSION:2.0
PRODID:-//ChamberMaster//Event Calendar 2.0//EN
METHOD:PUBLISH
X-PUBLISHED-TTL:P3D
REFRESH-INTERVAL:P3D
CALSCALE:GREGORIAN
BEGIN:VEVENT
DTSTART:20211023T150000Z
DTEND:20211023T160000Z
X-MICROSOFT-CDO-ALLDAYEVENT:FALSE
SUMMARY:Sleigh Your Holiday Strategy
DESCRIPTION:Back to Business Workshops presents Sleigh our Holiday Strategy with Racquel Lee of Brand Baby Agency.\n\nLearn to target marketing opportunities and organizational tools to leverage annual sales.
X-ALT-DESC;FMTTYPE=text/html:Back to Business Workshops presents Sleigh our Holiday Strategy with Racquel Lee of Brand Baby Agency.<br />\nLearn to target marketing opportunities and organizational tools to leverage annual sales.
LOCATION:Zula B Wylie Library 225 Cedar St Cedar Hill\, TX 75104
UID:e.1426.17065
SEQUENCE:3
DTSTAMP:20260424T160416Z
URL:https://www.cedarhillchamber.org/events/details/sleigh-your-holiday-strategy-17065
END:VEVENT

END:VCALENDAR
