BEGIN:VCALENDAR
VERSION:2.0
PRODID:-//ChamberMaster//Event Calendar 2.0//EN
METHOD:PUBLISH
X-PUBLISHED-TTL:P3D
REFRESH-INTERVAL:P3D
CALSCALE:GREGORIAN
BEGIN:VEVENT
DTSTART:20210505T190000Z
DTEND:20210505T200000Z
X-MICROSOFT-CDO-ALLDAYEVENT:FALSE
SUMMARY:SBA Webinar Wednesday - Restaurant Revitalization Fund (RRF) Overview
DESCRIPTION:An overview of the Restaurant Revitalization Fund (RRF) will be provided in this virtual session.  You can learn about this funding opportunity and information that will help you prepare. \n\nEligible businesses include restaurants\, food stands\, food trucks\, food carts\, caterers\, bars\, saloons\, lounges and taverns.  Also eligible are snack and nonalcoholic beverage bars (e.g.\, coffee shops\, ice cream shops)\, bakeries\, brewpubs\, tasting rooms\, taprooms\, breweries and/or microbreweries\, wineries and distilleries to name a few more.  There are others!  Is your business eligible?  Attend this webinar and learn more about requirements of eligibility and how to apply.\n\nThe RRF portal can be accessed at www.restaurants.sba.gov.  It will open on 5/3 at 11 am CDT for applications\, and opened on 4/30 for registration.  Important information is available at www.sba.gov/rrf including a complete RRF Program Guide.
X-ALT-DESC;FMTTYPE=text/html:<p class="m_1559171152598043676xxxmsonormal" style="margin-right: 0in\; margin-left: 0in\; font-size: 11pt\; font-family: Arial\, sans-serif\; color: rgb(34\, 34\, 34)\; margin-bottom: 11.25pt\;"><span style="font-size: 11.5pt\; color: black\;">An overview of the Restaurant Revitalization Fund (RRF) will be provided in this virtual session.&nbsp\; You can learn about this funding opportunity and information that will help you prepare.&nbsp\;</span></p>\n\n<p class="m_1559171152598043676xxxmsonormal" style="margin-right: 0in\; margin-left: 0in\; font-size: 11pt\; font-family: Arial\, sans-serif\; color: rgb(34\, 34\, 34)\; margin-bottom: 11.25pt\;"><span style="font-size: 11.5pt\; color: black\;">Eligible businesses include restaurants\, food stands\, food trucks\, food carts\, caterers\, bars\, saloons\, lounges and taverns.&nbsp\; Also eligible are snack and nonalcoholic beverage bars (e.g.\, coffee shops\, ice cream shops)\, bakeries\, brewpubs\, tasting rooms\, taprooms\, breweries and/or microbreweries\, wineries and distilleries to name a few more.&nbsp\; There are others!&nbsp\; Is your business eligible?&nbsp\; Attend this webinar and learn more about requirements of eligibility and how to apply.</span></p>\n\n<p class="m_1559171152598043676xxxmsonormal" style="margin-right: 0in\; margin-left: 0in\; font-size: 11pt\; font-family: Arial\, sans-serif\; color: rgb(34\, 34\, 34)\; margin-bottom: 11.25pt\;"><strong><span style="font-size: 11.5pt\; color: black\;">The RRF portal can be accessed at&nbsp\;<a data-saferedirecturl="https://www.google.com/url?q=http://www.restaurants.sba.gov&amp\;source=gmail&amp\;ust=1620316643420000&amp\;usg=AFQjCNGj8xiolPWBQogHI_EAUOrgMblOgw" href="http://www.restaurants.sba.gov/" style="color: rgb(17\, 85\, 204)\;" target="_blank"><span style="font-weight: normal\;">www.restaurants.sba.gov</span></a>.&nbsp\; It will open on 5/3 at 11 am CDT for applications\, and opened on 4/30 for registration.&nbsp\; Important information is available at&nbsp\;<a data-saferedirecturl="https://www.google.com/url?q=http://www.sba.gov/rrf&amp\;source=gmail&amp\;ust=1620316643420000&amp\;usg=AFQjCNEwtAGC-D0XUwPMvxxVYnvAKUlhcQ" href="http://www.sba.gov/rrf" style="color: rgb(17\, 85\, 204)\;" target="_blank"><span style="font-weight: normal\;">www.sba.gov/rrf</span></a>&nbsp\;including a complete RRF Program Guide.</span></strong></p>\n
LOCATION:
UID:e.1426.16511
SEQUENCE:3
DTSTAMP:20260425T001508Z
URL:https://www.cedarhillchamber.org/events/details/sba-webinar-wednesday-restaurant-revitalization-fund-rrf-overview-16511
END:VEVENT

END:VCALENDAR
