BEGIN:VCALENDAR
VERSION:2.0
PRODID:-//ChamberMaster//Event Calendar 2.0//EN
METHOD:PUBLISH
X-PUBLISHED-TTL:P3D
REFRESH-INTERVAL:P3D
CALSCALE:GREGORIAN
BEGIN:VEVENT
DTSTART:20210511T160000Z
DTEND:20210511T170000Z
X-MICROSOFT-CDO-ALLDAYEVENT:FALSE
SUMMARY:SBA Webinar - Learn the Basics of Google Ads
DESCRIPTION:Learn the Basics of Google Ads - a "Grow With Google" Webinar\n\n\n\nA live & interactive webinar\n\nNOTE: This event will NOT be recorded!\n\n\n\nThis Grow With Google Webinar will help you get started with Google Ads.\n\n\n\nHere's what we'll discuss: \n\n	Creating an account \n	Setting up an ad campaign \n	Writing great ads \n	Refining keywords\, including ad extensions \n	How to measure success \n\nThis is a great workshop for every small business owner!
X-ALT-DESC;FMTTYPE=text/html:<strong>Learn the Basics of Google Ads - a &quot\;Grow With Google&quot\; Webinar</strong><br />\n<br />\n<span style="color: rgb(27\, 30\, 41)\; font-family: &quot\;Source Sans Pro&quot\;\, &quot\;Helvetica Neue&quot\;\, Helvetica\, Arial\, sans-serif\; font-size: 18px\; letter-spacing: -0.4px\;">A live &amp\; interactive webinar<br />\n<em>NOTE: This event will NOT be recorded!</em><br />\n<br />\nThis Grow With Google Webinar will help you get started with Google Ads.<br />\n<br />\nHere&#39\;s what we&#39\;ll discuss: </span>\n<ul>\n	<li><span style="color: rgb(27\, 30\, 41)\; font-family: &quot\;Source Sans Pro&quot\;\, &quot\;Helvetica Neue&quot\;\, Helvetica\, Arial\, sans-serif\; font-size: 18px\; letter-spacing: -0.4px\;">Creating an account </span></li>\n	<li><span style="color: rgb(27\, 30\, 41)\; font-family: &quot\;Source Sans Pro&quot\;\, &quot\;Helvetica Neue&quot\;\, Helvetica\, Arial\, sans-serif\; font-size: 18px\; letter-spacing: -0.4px\;">Setting up an ad campaign </span></li>\n	<li><span style="color: rgb(27\, 30\, 41)\; font-family: &quot\;Source Sans Pro&quot\;\, &quot\;Helvetica Neue&quot\;\, Helvetica\, Arial\, sans-serif\; font-size: 18px\; letter-spacing: -0.4px\;">Writing great ads </span></li>\n	<li><span style="color: rgb(27\, 30\, 41)\; font-family: &quot\;Source Sans Pro&quot\;\, &quot\;Helvetica Neue&quot\;\, Helvetica\, Arial\, sans-serif\; font-size: 18px\; letter-spacing: -0.4px\;">Refining keywords\, including ad extensions </span></li>\n	<li><span style="color: rgb(27\, 30\, 41)\; font-family: &quot\;Source Sans Pro&quot\;\, &quot\;Helvetica Neue&quot\;\, Helvetica\, Arial\, sans-serif\; font-size: 18px\; letter-spacing: -0.4px\;">How to measure success </span></li>\n</ul>\n<span style="color: rgb(27\, 30\, 41)\; font-family: &quot\;Source Sans Pro&quot\;\, &quot\;Helvetica Neue&quot\;\, Helvetica\, Arial\, sans-serif\; font-size: 18px\; letter-spacing: -0.4px\;">This is a great workshop for every small business owner!</span>
LOCATION:Online
UID:e.1426.16513
SEQUENCE:3
DTSTAMP:20260422T061728Z
URL:https://www.cedarhillchamber.org/events/details/sba-webinar-learn-the-basics-of-google-ads-16513
END:VEVENT

END:VCALENDAR
