BEGIN:VCALENDAR
VERSION:2.0
PRODID:-//ChamberMaster//Event Calendar 2.0//EN
METHOD:PUBLISH
X-PUBLISHED-TTL:P3D
REFRESH-INTERVAL:P3D
CALSCALE:GREGORIAN
BEGIN:VEVENT
DTSTART:20210407T150000Z
DTEND:20210407T170000Z
X-MICROSOFT-CDO-ALLDAYEVENT:FALSE
SUMMARY:SBA Federal Small Business Certification Workshop
DESCRIPTION:Please join us for SBA's Federal Small Business Certifications Webinar the 1st Wednesday of every month from 10:00 a.m. to noon CDT.\n\nDid you know the federal government buys nearly $500 billion worth of goods and services from small businesses each year?\n\nGovernment contracts can offer significant opportunities for small businesses\, but selling to the government requires a very different approach than selling to the commercial sector.\n\nJoin us and learn how you can leverage small business certifications to diversify your revenue stream and improve your bottom line.\n\nA Business Opportunity Specialist with the SBA Dallas/Fort Worth District Office will facilitate the workshop and answer specific questions on the different certification processes via webinar. If you have questions\, please contact us via email at DFWDO.Email@sba.gov.\n\nAs a courtesy\, if you register and are unable to attend the webinar\, please email DFWDO.Email@sba.gov prior to the class so that we can release a ticket to others who may be on the waiting list.\n\n\n\nWe look forward to seeing you!\n\nThe SBA District Office Team
X-ALT-DESC;FMTTYPE=text/html:<p style="margin: 0px\; padding: 0px\; color: rgb(111\, 114\, 135)\; font-size: 16px\; line-height: 1.5rem\; font-family: &quot\;Neue Plak&quot\;\, -apple-system\, BlinkMacSystemFont\, Roboto\, &quot\;Helvetica Neue&quot\;\, Helvetica\, Tahoma\, Arial\, sans-serif\; letter-spacing: 0.5px\;">Please join us for SBA&#39\;s Federal Small Business Certifications&nbsp\;<span style="font-weight: 700\; padding-top: 0px\;">Webinar</span>&nbsp\;the 1st Wednesday of every month from 10:00 a.m. to noon CDT.</p>\n\n<p style="margin: 0px\; padding: 10px 0px 0px\; color: rgb(111\, 114\, 135)\; font-size: 16px\; line-height: 1.5rem\; font-family: &quot\;Neue Plak&quot\;\, -apple-system\, BlinkMacSystemFont\, Roboto\, &quot\;Helvetica Neue&quot\;\, Helvetica\, Tahoma\, Arial\, sans-serif\; letter-spacing: 0.5px\;">Did you know the federal government buys nearly $500 billion worth of goods and services from small businesses each year?</p>\n\n<p style="margin: 0px\; padding: 10px 0px 0px\; color: rgb(111\, 114\, 135)\; font-size: 16px\; line-height: 1.5rem\; font-family: &quot\;Neue Plak&quot\;\, -apple-system\, BlinkMacSystemFont\, Roboto\, &quot\;Helvetica Neue&quot\;\, Helvetica\, Tahoma\, Arial\, sans-serif\; letter-spacing: 0.5px\;">Government contracts can offer significant opportunities for small businesses\, but selling to the government requires a very different approach than selling to the commercial sector.</p>\n\n<p style="margin: 0px\; padding: 10px 0px 0px\; color: rgb(111\, 114\, 135)\; font-size: 16px\; line-height: 1.5rem\; font-family: &quot\;Neue Plak&quot\;\, -apple-system\, BlinkMacSystemFont\, Roboto\, &quot\;Helvetica Neue&quot\;\, Helvetica\, Tahoma\, Arial\, sans-serif\; letter-spacing: 0.5px\;">Join us and learn how you can leverage small business certifications to diversify your revenue stream and improve your bottom line.</p>\n\n<p style="margin: 0px\; padding: 10px 0px 0px\; color: rgb(111\, 114\, 135)\; font-size: 16px\; line-height: 1.5rem\; font-family: &quot\;Neue Plak&quot\;\, -apple-system\, BlinkMacSystemFont\, Roboto\, &quot\;Helvetica Neue&quot\;\, Helvetica\, Tahoma\, Arial\, sans-serif\; letter-spacing: 0.5px\;">A Business Opportunity Specialist with the SBA Dallas/Fort Worth District Office will facilitate the workshop and answer specific questions on the different certification processes via webinar. If you have questions\, please contact us via email at DFWDO.Email@sba.gov.</p>\n\n<p style="margin: 0px\; padding: 10px 0px 0px\; color: rgb(111\, 114\, 135)\; font-size: 16px\; line-height: 1.5rem\; font-family: &quot\;Neue Plak&quot\;\, -apple-system\, BlinkMacSystemFont\, Roboto\, &quot\;Helvetica Neue&quot\;\, Helvetica\, Tahoma\, Arial\, sans-serif\; letter-spacing: 0.5px\;">As a courtesy\, if you register and are unable to attend the webinar\, please email DFWDO.Email@sba.gov prior to the class so that we can release a ticket to others who may be on the waiting list.</p>\n\n<p style="margin: 0px\; padding: 10px 0px 0px\; color: rgb(111\, 114\, 135)\; font-size: 16px\; line-height: 1.5rem\; font-family: &quot\;Neue Plak&quot\;\, -apple-system\, BlinkMacSystemFont\, Roboto\, &quot\;Helvetica Neue&quot\;\, Helvetica\, Tahoma\, Arial\, sans-serif\; letter-spacing: 0.5px\;"><br />\nWe look forward to seeing you!</p>\n\n<p style="margin: 0px\; padding: 10px 0px 0px\; color: rgb(111\, 114\, 135)\; font-size: 16px\; line-height: 1.5rem\; font-family: &quot\;Neue Plak&quot\;\, -apple-system\, BlinkMacSystemFont\, Roboto\, &quot\;Helvetica Neue&quot\;\, Helvetica\, Tahoma\, Arial\, sans-serif\; letter-spacing: 0.5px\;">The SBA District Office Team</p>\n
LOCATION:
UID:e.1426.16447
SEQUENCE:3
DTSTAMP:20260425T020822Z
URL:https://www.cedarhillchamber.org/events/details/sba-federal-small-business-certification-workshop-16447
END:VEVENT

END:VCALENDAR
