BEGIN:VCALENDAR
VERSION:2.0
PRODID:-//ChamberMaster//Event Calendar 2.0//EN
METHOD:PUBLISH
X-PUBLISHED-TTL:P3D
REFRESH-INTERVAL:P3D
CALSCALE:GREGORIAN
BEGIN:VEVENT
DTSTART:20191211T200000Z
DTEND:20191211T220000Z
X-MICROSOFT-CDO-ALLDAYEVENT:FALSE
SUMMARY:Santa is coming to Smile Doctors Braces!!!
DESCRIPTION:Ho! Ho! Ho!  Bring your family in to visit Santa and take some pictures!  Smile Doctors will provide the cookies and milk.  Santa will be listening to your wish list and checking your Christmas spirit.  This is a FREE public event!  Visit our office at 408 N Hwy 67\, Suite C\, Cedar Hill from 2-4 PM.  Santa will be happy to make a video for your kids that are in school if they cannot attend.
X-ALT-DESC;FMTTYPE=text/html:<span style="font-family:comic sans ms"><span style="background-color:rgb(255\, 255\, 255)\; color:rgb(51\, 51\, 51)\; font-size:13px">Ho! Ho! Ho!&nbsp\; Bring your family in to visit Santa and take some pictures!&nbsp\; Smile Doctors will provide the cookies and milk.&nbsp\; Santa will be listening to your wish list and checking your Christmas spirit.&nbsp\; This is a FREE public event!&nbsp\; Visit our office at 408 N Hwy 67\, Suite C\, Cedar Hill from 2-4 PM.&nbsp\; Santa will be happy to make a video for your kids that are in school if they cannot attend.</span></span>
LOCATION:Smile Doctors Braces 408 N Hwy 67\, Suite C Cedar Hill\, TX 75104
UID:e.1426.15721
SEQUENCE:3
DTSTAMP:20260426T032940Z
URL:https://www.cedarhillchamber.org/events/details/santa-is-coming-to-smile-doctors-braces-15721
END:VEVENT

END:VCALENDAR
