BEGIN:VCALENDAR
VERSION:2.0
PRODID:-//ChamberMaster//Event Calendar 2.0//EN
METHOD:PUBLISH
X-PUBLISHED-TTL:P3D
REFRESH-INTERVAL:P3D
CALSCALE:GREGORIAN
BEGIN:VEVENT
DTSTART:20230624T200000Z
DTEND:20230624T230000Z
X-MICROSOFT-CDO-ALLDAYEVENT:FALSE
SUMMARY:Ribbon Cutting for Beautiful Wigs & Etc...
DESCRIPTION:
X-ALT-DESC;FMTTYPE=text/html:
LOCATION:901 N Polk St Suite 320 Desoto\, TX 75115
UID:e.1426.18178
SEQUENCE:3
DTSTAMP:20260424T033219Z
URL:https://www.cedarhillchamber.org/events/details/ribbon-cutting-for-beautiful-wigs-etc-18178
END:VEVENT

END:VCALENDAR
