BEGIN:VCALENDAR
VERSION:2.0
PRODID:-//ChamberMaster//Event Calendar 2.0//EN
METHOD:PUBLISH
X-PUBLISHED-TTL:P3D
REFRESH-INTERVAL:P3D
CALSCALE:GREGORIAN
BEGIN:VEVENT
DTSTART:20210430T190000Z
DTEND:20210430T200000Z
X-MICROSOFT-CDO-ALLDAYEVENT:FALSE
SUMMARY:Restaurant Revitalization Fund Webinar
DESCRIPTION:Join us this Friday April 30th at 2PM EST/11AM PST for "The Recipe for Restaurant Revitalization to Re-Open Your Business!" A Conversation with the U.S. Small Business Administration Administrator and Special Guests from the Office of Capital Access on the Restaurant Revitalization Fund.\n\n \n\nRestaurants\, Caterers\, Bars\, Food Trucks and eligible food and beverage firms can gain insight and ask questions about this $28.6 Billion available through the SBA.\n\n \n\nWe will be streaming live on Facebook and YouTube! Be sure to follow us on social and submit all questions to programs@usblackchambers.org.\n\n \n\nRegister Link: https://www.eventbrite.com/e/152524576113\n\nLearn more at usblackchambers.org/cares-act
X-ALT-DESC;FMTTYPE=text/html:<p align="left" style="color: rgb(96\, 109\, 120)\; font-family: Helvetica\, Arial\, sans-serif\; font-size: 16px\; margin: 0px\;"><span style="font-size: 15px\; color: rgb(5\, 5\, 5)\;">Join us this Friday April 30th at 2PM EST/11AM PST for &quot\;The Recipe for Restaurant Revitalization to Re-Open Your Business!&quot\; A Conversation with the&nbsp\;</span><a data-saferedirecturl="https://www.google.com/url?q=http://r20.rs6.net/tn.jsp?f%3D001XLOnvSMgYm7pEVOaYrxV6eme_LgKul8QynAHYGIEBTLzLAy_6wylJY_gsibb49jdNE0Dkw5mVv1ZicV6c9TLLBTKdU0xJBKm0ZaKnEFyFZOSlu4JjHWhadS7-yN96BRCXRxnXMn1NUsUQxS9vZw3vEnf4jjsVEzH1598qLh5n8NdavS1s96TgFKsd304ISDDbs8PK6weTDsKyrod4_0MvJOmb3RlVrLf3dKDWljCtEZftjvCGIwWDoU2QuNNFX7B%26c%3DQZW6UKBJ1edpIR7yMXFVA1Ts_TeB_Le9c-0Y5s1SYXfyNvJI560JhQ%3D%3D%26ch%3D6qFZZvXn1dBlEjgprQze1CalKIBXLasQ-s_phLz_aTXvrEGJoARJTg%3D%3D%26jrc%3D1&amp\;source=gmail&amp\;ust=1619804977161000&amp\;usg=AFQjCNH2QD6_Kshj6kU7EtaPDmDBoiZPow" href="http://r20.rs6.net/tn.jsp?f=001XLOnvSMgYm7pEVOaYrxV6eme_LgKul8QynAHYGIEBTLzLAy_6wylJY_gsibb49jdNE0Dkw5mVv1ZicV6c9TLLBTKdU0xJBKm0ZaKnEFyFZOSlu4JjHWhadS7-yN96BRCXRxnXMn1NUsUQxS9vZw3vEnf4jjsVEzH1598qLh5n8NdavS1s96TgFKsd304ISDDbs8PK6weTDsKyrod4_0MvJOmb3RlVrLf3dKDWljCtEZftjvCGIwWDoU2QuNNFX7B&amp\;c=QZW6UKBJ1edpIR7yMXFVA1Ts_TeB_Le9c-0Y5s1SYXfyNvJI560JhQ==&amp\;ch=6qFZZvXn1dBlEjgprQze1CalKIBXLasQ-s_phLz_aTXvrEGJoARJTg==&amp\;jrc=1" style="color: rgb(233\, 76\, 58)\; font-size: 15px\; font-weight: bold\; text-decoration-line: none\;" target="_blank">U.S. Small Business Administration</a><span style="font-size: 15px\; color: rgb(38\, 44\, 48)\;">&nbsp\;</span><span style="font-size: 15px\; color: rgb(5\, 5\, 5)\;">Administrator and Special Guests from the Office of Capital Access on the Restaurant Revitalization Fund.</span></p>\n\n<p align="left" style="color: rgb(96\, 109\, 120)\; font-family: Helvetica\, Arial\, sans-serif\; font-size: 16px\; margin: 0px\;">&nbsp\;</p>\n\n<p align="left" style="color: rgb(96\, 109\, 120)\; font-family: Helvetica\, Arial\, sans-serif\; font-size: 16px\; margin: 0px\;"><span style="font-size: 15px\; color: rgb(5\, 5\, 5)\;">Restaurants\, Caterers\, Bars\, Food Trucks and eligible food and beverage firms can gain insight and ask questions about this&nbsp\;</span><span style="font-size: 15px\; color: rgb(5\, 5\, 5)\; font-weight: bold\;">$28.6 Billion available through the SBA</span><span style="font-size: 15px\; color: rgb(5\, 5\, 5)\;">.</span></p>\n\n<p align="left" style="color: rgb(96\, 109\, 120)\; font-family: Helvetica\, Arial\, sans-serif\; font-size: 16px\; margin: 0px\;">&nbsp\;</p>\n\n<p align="left" style="color: rgb(96\, 109\, 120)\; font-family: Helvetica\, Arial\, sans-serif\; font-size: 16px\; margin: 0px\;"><span style="font-size: 15px\; color: rgb(5\, 5\, 5)\;">We will be streaming live on Facebook and YouTube! Be sure to follow us on social and submit all questions to&nbsp\;</span><a href="mailto:programs@usblackchambers.org" style="color: rgb(233\, 76\, 58)\; font-size: 15px\; font-weight: bold\; text-decoration-line: none\;" target="_blank">programs@usblackchambers.org</a><a href="mailto:programs@usblackchambers.org" style="color: rgb(5\, 5\, 5)\; font-size: 15px\; font-weight: bold\; text-decoration-line: none\;" target="_blank">.</a></p>\n\n<p align="left" style="color: rgb(96\, 109\, 120)\; font-family: Helvetica\, Arial\, sans-serif\; font-size: 16px\; margin: 0px\;">&nbsp\;</p>\n\n<p align="left" style="color: rgb(96\, 109\, 120)\; font-family: Helvetica\, Arial\, sans-serif\; font-size: 16px\; margin: 0px\;"><span style="font-size: 15px\; color: rgb(5\, 5\, 5)\;">Register Link:&nbsp\;</span><a data-saferedirecturl="https://www.google.com/url?q=http://r20.rs6.net/tn.jsp?f%3D001XLOnvSMgYm7pEVOaYrxV6eme_LgKul8QynAHYGIEBTLzLAy_6wylJdJXXFUwbLZ9JYuNR98OvMxhcKWG4NWv1z_q4MNb1ktJ4kfRUP3P2eR9h4YiA7vH7F4HXybHc9daQjVFHhDjRLgoUsKtFNmD4gbsdW_uzoZo4wIRh9-VhwxmEotkwMfdecrgrMbuQ1S7XJExEUSnPatHSy7wAE1Ud8QnbQxOWHZnebF0FwUOin9BYJ5OF7t6NKOKeqwx_hwLU11CEVHW91Y%3D%26c%3DQZW6UKBJ1edpIR7yMXFVA1Ts_TeB_Le9c-0Y5s1SYXfyNvJI560JhQ%3D%3D%26ch%3D6qFZZvXn1dBlEjgprQze1CalKIBXLasQ-s_phLz_aTXvrEGJoARJTg%3D%3D%26jrc%3D1&amp\;source=gmail&amp\;ust=1619804977161000&amp\;usg=AFQjCNHbnW_s0pc7OAeSdruCx5Wvm8NfMw" href="https://www.eventbrite.com/e/152524576113" style="color: rgb(5\, 5\, 5)\; font-size: 15px\; font-weight: bold\; text-decoration-line: none\;" target="_blank">https://www.eventbrite.com/e/<wbr />152524576113</a></p>\n\n<p align="left" style="color: rgb(96\, 109\, 120)\; font-family: Helvetica\, Arial\, sans-serif\; font-size: 16px\; margin: 0px\;"><span style="font-size: 15px\; color: rgb(5\, 5\, 5)\;">Learn more at&nbsp\;</span><a data-saferedirecturl="https://www.google.com/url?q=http://r20.rs6.net/tn.jsp?f%3D001XLOnvSMgYm7pEVOaYrxV6eme_LgKul8QynAHYGIEBTLzLAy_6wylJdJXXFUwbLZ9vJw7Lnb3coz3EjkyzXfgVekVgojcevI41MKFZC-zH-CNwBgj2CmxdxAtrGpCq3CkXOisV3F6HPV8qZWWB05KgI0eTPQQ_0xXN5h34x-q_NrYYaB_s5VBvoIgfUtP8RvHfScAgaP2T5R8b-3N-0piEMekzSl03LIOfY5U88OPpSwGZhntCt9klTLd_ybsiG53%26c%3DQZW6UKBJ1edpIR7yMXFVA1Ts_TeB_Le9c-0Y5s1SYXfyNvJI560JhQ%3D%3D%26ch%3D6qFZZvXn1dBlEjgprQze1CalKIBXLasQ-s_phLz_aTXvrEGJoARJTg%3D%3D%26jrc%3D1&amp\;source=gmail&amp\;ust=1619804977161000&amp\;usg=AFQjCNGTDO_YbNBRiNwFWsRjr8tuD_EPpQ" href="http://usblackchambers.org/cares-act" style="color: rgb(5\, 5\, 5)\; font-size: 15px\; font-weight: bold\; text-decoration-line: none\;" target="_blank">usblackchambers.org/cares-act</a></p>\n
LOCATION:Online webinar Streamed live on Facebook and YouTube
UID:e.1426.16510
SEQUENCE:3
DTSTAMP:20260425T020726Z
URL:https://www.cedarhillchamber.org/events/details/restaurant-revitalization-fund-webinar-16510
END:VEVENT

END:VCALENDAR
