BEGIN:VCALENDAR
VERSION:2.0
PRODID:-//ChamberMaster//Event Calendar 2.0//EN
METHOD:PUBLISH
X-PUBLISHED-TTL:P3D
REFRESH-INTERVAL:P3D
CALSCALE:GREGORIAN
BEGIN:VEVENT
DTSTART:20210703T230000Z
DTEND:20210704T030000Z
X-MICROSOFT-CDO-ALLDAYEVENT:FALSE
SUMMARY:Red\, White and Rose on the Patio
DESCRIPTION:Celebrate Independence Day on the Saviana Patio with Live music! Chad Collins will play his  acoustic style funk\, folk\, and blues music!
X-ALT-DESC;FMTTYPE=text/html:<span style="color: rgb(34\, 34\, 34)\; font-family: Arial\, Helvetica\, sans-serif\; font-size: small\;">Celebrate Independence Day on the Saviana Patio with Live music! Chad Collins will play his&nbsp\; acoustic style funk\, folk\, and blues music!</span>
LOCATION:Saviana Winery 316 Cooper St Cedar Hill\, TX 75104
UID:e.1426.16568
SEQUENCE:3
DTSTAMP:20260424T204558Z
URL:https://www.cedarhillchamber.org/events/details/red-white-and-rose-on-the-patio-16568
END:VEVENT

END:VCALENDAR
