BEGIN:VCALENDAR
VERSION:2.0
PRODID:-//ChamberMaster//Event Calendar 2.0//EN
METHOD:PUBLISH
X-PUBLISHED-TTL:P3D
REFRESH-INTERVAL:P3D
CALSCALE:GREGORIAN
BEGIN:VEVENT
DTSTART:20230718T140000Z
DTEND:20230718T200000Z
X-MICROSOFT-CDO-ALLDAYEVENT:FALSE
SUMMARY:Red Cross Blood Drive
DESCRIPTION:
X-ALT-DESC;FMTTYPE=text/html:
LOCATION:Hill City Church 1375 New Clark Road Cedar Hill\, TX 75104
UID:e.1426.18192
SEQUENCE:3
DTSTAMP:20260424T050651Z
URL:https://www.cedarhillchamber.org/events/details/red-cross-blood-drive-18192
END:VEVENT

END:VCALENDAR
