BEGIN:VCALENDAR
VERSION:2.0
PRODID:-//ChamberMaster//Event Calendar 2.0//EN
METHOD:PUBLISH
X-PUBLISHED-TTL:P3D
REFRESH-INTERVAL:P3D
CALSCALE:GREGORIAN
BEGIN:VEVENT
DTSTART:20200203T170000Z
DTEND:20200203T180000Z
X-MICROSOFT-CDO-ALLDAYEVENT:FALSE
SUMMARY:Realtor Luncheon
DESCRIPTION:Join us to learn more about our district and the opportunities for families to enroll.\n\nRSVP shorturl.at/bzGKX
X-ALT-DESC;FMTTYPE=text/html:Join us to learn more about our district and the opportunities for families to enroll.<br />\nRSVP shorturl.at/bzGKX
LOCATION:132 E. Ovilla Rd. Red Oak 75154 https://www.google.com/maps/place/132+East+Ovilla+Road\,+Red+Oak\,+TX+75154/@32.5328539\,-96.8208068\,15z/data=!3m1!4b1!4m5!3m4!1s0x864eeb353947b183:0x4518d8be4e367049!8m2!3d32.5328542!4d-96.8120735
UID:e.1426.15836
SEQUENCE:3
DTSTAMP:20260425T235741Z
URL:https://www.cedarhillchamber.org/events/details/realtor-luncheon-15836
END:VEVENT

END:VCALENDAR
