BEGIN:VCALENDAR
VERSION:2.0
PRODID:-//ChamberMaster//Event Calendar 2.0//EN
METHOD:PUBLISH
X-PUBLISHED-TTL:P3D
REFRESH-INTERVAL:P3D
CALSCALE:GREGORIAN
BEGIN:VEVENT
DTSTART:20230601T170000Z
DTEND:20230601T173000Z
X-MICROSOFT-CDO-ALLDAYEVENT:FALSE
SUMMARY:RC/Launch STAR Transit
DESCRIPTION:
X-ALT-DESC;FMTTYPE=text/html:
LOCATION:1740 Mansfield RD
UID:e.1426.18177
SEQUENCE:3
DTSTAMP:20260424T014312Z
URL:https://www.cedarhillchamber.org/events/details/rc-launch-star-transit-18177
END:VEVENT

END:VCALENDAR
