BEGIN:VCALENDAR
VERSION:2.0
PRODID:-//ChamberMaster//Event Calendar 2.0//EN
METHOD:PUBLISH
X-PUBLISHED-TTL:P3D
REFRESH-INTERVAL:P3D
CALSCALE:GREGORIAN
BEGIN:VEVENT
DTSTART:20210727T140000Z
DTEND:20210727T150000Z
X-MICROSOFT-CDO-ALLDAYEVENT:FALSE
SUMMARY:Raising Cane's Grand Opening
DESCRIPTION:Raising Cane's Chicken Fingers is coming to Cedar Hill. They want to celebrate their new location and National Fried Chicken Finger Day with YOU!\n\nThis opening is going to be a FUN one! They will have the Mav ManiAACs\, an Elvis impersonator\, and the Cedar Hill High School band and cheerleaders.
X-ALT-DESC;FMTTYPE=text/html:Raising Cane&#39\;s Chicken Fingers is coming to Cedar Hill. They want to celebrate their new location and National Fried Chicken Finger Day with YOU!<br />\nThis opening is going to be a FUN one! They will have the Mav ManiAACs\, an Elvis impersonator\, and the Cedar Hill High School band and cheerleaders.
LOCATION:
UID:e.1426.16516
SEQUENCE:3
DTSTAMP:20260424T192441Z
URL:https://www.cedarhillchamber.org/events/details/raising-cane-s-grand-opening-16516
END:VEVENT

END:VCALENDAR
