BEGIN:VCALENDAR
VERSION:2.0
PRODID:-//ChamberMaster//Event Calendar 2.0//EN
METHOD:PUBLISH
X-PUBLISHED-TTL:P3D
REFRESH-INTERVAL:P3D
CALSCALE:GREGORIAN
BEGIN:VEVENT
DTSTART:20260514T163000Z
DTEND:20260514T180000Z
X-MICROSOFT-CDO-ALLDAYEVENT:FALSE
SUMMARY:Professional Development Series
DESCRIPTION:
X-ALT-DESC;FMTTYPE=text/html:
LOCATION:
UID:e.1426.20604
SEQUENCE:3
DTSTAMP:20260422T010643Z
URL:https://www.cedarhillchamber.org/events/details/professional-development-series-20604
END:VEVENT

END:VCALENDAR
