BEGIN:VCALENDAR
VERSION:2.0
PRODID:-//ChamberMaster//Event Calendar 2.0//EN
METHOD:PUBLISH
X-PUBLISHED-TTL:P3D
REFRESH-INTERVAL:P3D
CALSCALE:GREGORIAN
BEGIN:VEVENT
DTSTART;VALUE=DATE:20220209
DTEND;VALUE=DATE:20220210
TRANSP:TRANSPARENT
X-MICROSOFT-CDO-ALLDAYEVENT:TRUE
SUMMARY:[POSTPONED] Trinity Leadership Public School Ribbon Cutting
DESCRIPTION:Due to unforeseen circumstances\, we are rescheduling the ribbon cutting event at Trinity Leadership. When a new date is available we will share it in hopes that you can join us.
X-ALT-DESC;FMTTYPE=text/html:<strong><span style="color:#FF0000\;">Due to unforeseen circumstances\, we are rescheduling the ribbon cutting event at Trinity Leadership. When a new date is available we will share it in hopes that you can join us.</span></strong><br />\n&nbsp\;
LOCATION:
UID:e.1426.17279
SEQUENCE:3
DTSTAMP:20260424T080510Z
URL:https://www.cedarhillchamber.org/events/details/postponed-trinity-leadership-public-school-ribbon-cutting-17279
END:VEVENT

END:VCALENDAR
