BEGIN:VCALENDAR
VERSION:2.0
PRODID:-//ChamberMaster//Event Calendar 2.0//EN
METHOD:PUBLISH
X-PUBLISHED-TTL:P3D
REFRESH-INTERVAL:P3D
CALSCALE:GREGORIAN
BEGIN:VEVENT
DTSTART:20220223T180000Z
DTEND:20220223T190000Z
X-MICROSOFT-CDO-ALLDAYEVENT:FALSE
SUMMARY:[Postponed] TotalCare Emergency Room Ribbon Cutting
DESCRIPTION:This event has been postponed due to inclement weather. We apologize for the inconvenience and thank you for your understanding.
X-ALT-DESC;FMTTYPE=text/html:This event has been postponed due to inclement weather. We apologize for the inconvenience and thank you for your understanding.
LOCATION:
UID:e.1426.17504
SEQUENCE:3
DTSTAMP:20260424T081212Z
URL:https://www.cedarhillchamber.org/events/details/postponed-totalcare-emergency-room-ribbon-cutting-17504
END:VEVENT

END:VCALENDAR
