BEGIN:VCALENDAR
VERSION:2.0
PRODID:-//ChamberMaster//Event Calendar 2.0//EN
METHOD:PUBLISH
X-PUBLISHED-TTL:P3D
REFRESH-INTERVAL:P3D
CALSCALE:GREGORIAN
BEGIN:VEVENT
DTSTART;VALUE=DATE:20200318
DTEND;VALUE=DATE:20200319
TRANSP:TRANSPARENT
X-MICROSOFT-CDO-ALLDAYEVENT:TRUE
SUMMARY:POSTPONED LSW - Class Day
DESCRIPTION:This event has been postponed at the recommendation of the City to reschedule large scale events at this time. We see a large number of attendees who may travel to be here and want to ensure the health and wellbeing of all our community members.
X-ALT-DESC;FMTTYPE=text/html:This event has been postponed at the recommendation of the City to reschedule large scale events at this time. We see a large number of attendees who may travel to be here and want to ensure the health and wellbeing of all our community members.
LOCATION:
UID:e.1426.4833
SEQUENCE:3
DTSTAMP:20260425T222751Z
URL:https://www.cedarhillchamber.org/events/details/postponed-lsw-class-day-4833
END:VEVENT

END:VCALENDAR
