BEGIN:VCALENDAR
VERSION:2.0
PRODID:-//ChamberMaster//Event Calendar 2.0//EN
METHOD:PUBLISH
X-PUBLISHED-TTL:P3D
REFRESH-INTERVAL:P3D
CALSCALE:GREGORIAN
BEGIN:VEVENT
DTSTART:20210513T230000Z
DTEND:20210514T010000Z
X-MICROSOFT-CDO-ALLDAYEVENT:FALSE
SUMMARY:Party in the Park
DESCRIPTION:Get to know your neighbors and visit with City officials at this FREE family event. Enjoy snacks and goodie bags and stay for the re-dedication of Windsor Park. For our safety and yours\, please wear a mask.
X-ALT-DESC;FMTTYPE=text/html:Get to know your neighbors and visit with City officials at this FREE family event. Enjoy snacks and goodie bags and stay for the re-dedication of Windsor Park. For our safety and yours\, please wear a mask.
LOCATION:Windsor Park 200 Lakeside Dr. Cedar Hill\, TX 75104
UID:e.1426.16514
SEQUENCE:3
DTSTAMP:20260424T223039Z
URL:https://www.cedarhillchamber.org/events/details/party-in-the-park-16514
END:VEVENT

END:VCALENDAR
