BEGIN:VCALENDAR
VERSION:2.0
PRODID:-//ChamberMaster//Event Calendar 2.0//EN
METHOD:PUBLISH
X-PUBLISHED-TTL:P3D
REFRESH-INTERVAL:P3D
CALSCALE:GREGORIAN
BEGIN:VEVENT
DTSTART:20210724T150000Z
DTEND:20210724T200000Z
X-MICROSOFT-CDO-ALLDAYEVENT:FALSE
SUMMARY:Paradigm Shift Business + Leadership Conference
DESCRIPTION:THRIVING UNDER PRESSURE\n\nFour C's of a Diamond\n\n\n\nOUR CONFERENCE WILL COVER:\n\n\n	CUT - What does the foundation of your business look like? Is it fireproof and can it withstand pressures of everyday life?\n	CLARITY - All businesses need a vision. Do you have a clear direction as to where it is your want your business to go? How do you plan to get there? When do you plan to get there?\n	COLOR - Every business consists of its own culture. Have you established a culture that will transcend the generations to come or is culture something you can work on?\n	CARAT - Cashflow is a vital part in business. Unfortunately\, many businesses did not make it through the pandemic because of lack of planning and resources. Many did not have the financial reserves that were needed to withstand the waiting period before the Federal Disaster Relief went into affect.
X-ALT-DESC;FMTTYPE=text/html:<p><strong>THRIVING UNDER PRESSURE</strong><br />\nFour C&#39\;s of a Diamond<br />\n<br />\nOUR CONFERENCE WILL COVER:</p>\n\n<ul>\n	<li>CUT - What does the&nbsp\;<strong>foundation</strong>&nbsp\;of your business look like? Is it fireproof and can it withstand pressures of everyday life?</li>\n	<li>CLARITY - All businesses need a&nbsp\;<strong>vision</strong>. Do you have a clear direction as to where it is your want your business to go? How do you plan to get there? When do you plan to get there?</li>\n	<li>COLOR - Every business consists of its own&nbsp\;<strong>culture</strong>. Have you established a culture that will transcend the generations to come or is culture something you can work on?</li>\n	<li>CARAT -&nbsp\;<strong>Cashflow</strong>&nbsp\;is a vital part in business. Unfortunately\, many businesses did not make it through the pandemic because of lack of planning and resources. Many did not have the financial reserves that were needed to withstand the waiting period before the Federal Disaster Relief went into affect.</li>\n</ul>\n
LOCATION:Trinity Church 1231 E. Pleasant Run Rd Cedar Hill\, TX 75104
UID:e.1426.16838
SEQUENCE:3
DTSTAMP:20260424T192312Z
URL:https://www.cedarhillchamber.org/events/details/paradigm-shift-business-leadership-conference-16838
END:VEVENT

END:VCALENDAR
