BEGIN:VCALENDAR
VERSION:2.0
PRODID:-//ChamberMaster//Event Calendar 2.0//EN
METHOD:PUBLISH
X-PUBLISHED-TTL:P3D
REFRESH-INTERVAL:P3D
CALSCALE:GREGORIAN
BEGIN:VEVENT
DTSTART;VALUE=DATE:20230830
DTEND;VALUE=DATE:20230831
TRANSP:TRANSPARENT
X-MICROSOFT-CDO-ALLDAYEVENT:TRUE
SUMMARY:PAR-TEE Golf Tournament 2023
DESCRIPTION:We are looking forward to having a PAR-TEE!\n\nIndividual Golfer $150\n\nTeam of 4 $550\n\n\n\nSponsorships are available. Sign up online at https://charitygolftoday.com/event?e=9653&ce=6cdc11 \n\nor contact our office to learn more.
X-ALT-DESC;FMTTYPE=text/html:<span style="font-size:24px\;"><span style="font-family:arial\;">We are looking forward to having a PAR-TEE!<br />\nIndividual Golfer $150<br />\nTeam of 4 $550</span><br />\n<br />\nSponsorships are available. Sign up online <span style="font-family:arial\;">at&nbsp\;<a href="https://charitygolftoday.com/event?e=9653&amp\;ce=6cdc11" itemprop="url" style="box-sizing: border-box\; background-color: rgb(243\, 243\, 243)\; color: rgb(119\, 119\, 119)\; outline: 0px\; overflow-wrap: break-word\; font-family: Raleway\, sans-serif\; font-size: 16px\; letter-spacing: 0.5px\;" target="_blank">https://charitygolftoday.com/event?e=9653&amp\;ce=6cdc11</a></span></span>&nbsp\;<br />\n<span style="font-size:24px\;">or contact our office to learn more.</span><br />\n&nbsp\;
LOCATION:Thorntree Golf Club 825 W. Wintergreen Road DeSoto\, TX 75115
UID:e.1426.18195
SEQUENCE:3
DTSTAMP:20260424T064956Z
URL:https://www.cedarhillchamber.org/events/details/par-tee-golf-tournament-2023-18195
END:VEVENT

END:VCALENDAR
