BEGIN:VCALENDAR
VERSION:2.0
PRODID:-//ChamberMaster//Event Calendar 2.0//EN
METHOD:PUBLISH
X-PUBLISHED-TTL:P3D
REFRESH-INTERVAL:P3D
CALSCALE:GREGORIAN
BEGIN:VEVENT
DTSTART:20220618T190000Z
DTEND:20220618T210000Z
X-MICROSOFT-CDO-ALLDAYEVENT:FALSE
SUMMARY:Painting For Pops
DESCRIPTION:School aged kids are invited to create a Father's Day painting project* for Dad! Located next to Game Stop\, in the old Justice space. *While supplies last
X-ALT-DESC;FMTTYPE=text/html:<p>School aged kids are invited to create a Father&rsquo\;s Day painting project* for Dad! Located next to Game Stop\, in the old Justice space. *While supplies last</p>\n
LOCATION:Suite 614
UID:e.1426.17735
SEQUENCE:3
DTSTAMP:20260424T012518Z
URL:https://www.cedarhillchamber.org/events/details/painting-for-pops-17735
END:VEVENT

END:VCALENDAR
