BEGIN:VCALENDAR
VERSION:2.0
PRODID:-//ChamberMaster//Event Calendar 2.0//EN
METHOD:PUBLISH
X-PUBLISHED-TTL:P3D
REFRESH-INTERVAL:P3D
CALSCALE:GREGORIAN
BEGIN:VEVENT
DTSTART;VALUE=DATE:20211013
DTEND;VALUE=DATE:20211014
TRANSP:TRANSPARENT
X-MICROSOFT-CDO-ALLDAYEVENT:TRUE
SUMMARY:Office Closed
DESCRIPTION:The Chamber of Commerce will be closed today for Staff and Board development.
X-ALT-DESC;FMTTYPE=text/html:The Chamber of Commerce will be closed today for Staff and Board development.
LOCATION:
UID:e.1426.17006
SEQUENCE:3
DTSTAMP:20260424T144005Z
URL:https://www.cedarhillchamber.org/events/details/office-closed-17006
END:VEVENT

END:VCALENDAR
