BEGIN:VCALENDAR
VERSION:2.0
PRODID:-//ChamberMaster//Event Calendar 2.0//EN
METHOD:PUBLISH
X-PUBLISHED-TTL:P3D
REFRESH-INTERVAL:P3D
CALSCALE:GREGORIAN
BEGIN:VEVENT
DTSTART:20230126T210000Z
DTEND:20230127T010000Z
X-MICROSOFT-CDO-ALLDAYEVENT:FALSE
SUMMARY:Nurse Resident Job Fair
DESCRIPTION:Methodist Charlton Medical Center\n\nNurse Resident Job Fair
X-ALT-DESC;FMTTYPE=text/html:<span style="font-size:20px\;">Methodist Charlton Medical Center<br />\nNurse Resident Job Fair</span><br />\n<br />\n<br />\n<br />\n&nbsp\;
LOCATION:3500 W Wheatland Rd. Dallas\, TX 75237
UID:e.1426.18026
SEQUENCE:3
DTSTAMP:20260423T164235Z
URL:https://www.cedarhillchamber.org/events/details/nurse-resident-job-fair-18026
END:VEVENT

END:VCALENDAR
