BEGIN:VCALENDAR
VERSION:2.0
PRODID:-//ChamberMaster//Event Calendar 2.0//EN
METHOD:PUBLISH
X-PUBLISHED-TTL:P3D
REFRESH-INTERVAL:P3D
CALSCALE:GREGORIAN
BEGIN:VEVENT
DTSTART:20201006T170000Z
DTEND:20201006T180000Z
X-MICROSOFT-CDO-ALLDAYEVENT:FALSE
SUMMARY:Networking Lunch
DESCRIPTION:Register to receive the link to join us virtually.
X-ALT-DESC;FMTTYPE=text/html:Register to receive the link to join us virtually.
LOCATION:Online
UID:e.1426.15808
SEQUENCE:3
DTSTAMP:20260425T115209Z
URL:https://www.cedarhillchamber.org/events/details/networking-lunch-15808
END:VEVENT

END:VCALENDAR
