BEGIN:VCALENDAR
VERSION:2.0
PRODID:-//ChamberMaster//Event Calendar 2.0//EN
METHOD:PUBLISH
X-PUBLISHED-TTL:P3D
REFRESH-INTERVAL:P3D
CALSCALE:GREGORIAN
BEGIN:VEVENT
DTSTART:20220724T013000Z
DTEND:20220724T030000Z
X-MICROSOFT-CDO-ALLDAYEVENT:FALSE
SUMMARY:Nature in Your Park - Moth Night
DESCRIPTION:Celebrate National Moth Week with us as we explore nocturnal winged insects at Crawford Park. Your hosts are the Indian Trail Master Naturalist chapter\, the Cedar Hill Parks & Rec Department and the Zula B. Wylie Library. We will learn about being a community scientist and how moths are important for birds\, bats\, native plants and pollination. Audubon Texas is a Texan by Nature Conservation Partner.
X-ALT-DESC;FMTTYPE=text/html:Celebrate National Moth Week with us as we explore nocturnal winged insects at Crawford Park. Your hosts are the Indian Trail Master Naturalist chapter\, the Cedar Hill Parks &amp\; Rec Department and the Zula B. Wylie Library. We will learn about being a community scientist and how moths are important for birds\, bats\, native plants and pollination. Audubon Texas is a Texan by Nature Conservation Partner.
LOCATION:Crawford Park\, 401 Strauss Road\, Cedar Hill\, TX 75104
UID:e.1426.17792
SEQUENCE:3
DTSTAMP:20260423T233223Z
URL:https://www.cedarhillchamber.org/events/details/nature-in-your-park-moth-night-17792
END:VEVENT

END:VCALENDAR
