BEGIN:VCALENDAR
VERSION:2.0
PRODID:-//ChamberMaster//Event Calendar 2.0//EN
METHOD:PUBLISH
X-PUBLISHED-TTL:P3D
REFRESH-INTERVAL:P3D
CALSCALE:GREGORIAN
BEGIN:VEVENT
DTSTART:20200324T160000Z
DTEND:20200324T173000Z
X-MICROSOFT-CDO-ALLDAYEVENT:FALSE
SUMMARY:POSTPONED - MVP Luncheon
DESCRIPTION:The event will be POSTPONED due to Dallas County's discouraging of large gatherings as a precaution for the health of the community.\n\n\n\nINSPIRE School Programs presents the MVP Luncheon.\n\n\n\nMVP Luncheon will honor over 400 young men from Cedar Hill\, Duncanville\, and South Oak Cliff high schools who participated in the MVP mentoring program. This year's theme is "SOAR - Aim High!" In order to inspire and empower students to achieve success in academics\, relationships\, and life!\n\n\n\nHow can you be involved?\n\nBecome a Table Sponsor and/or a Table Host! The luncheon provides students with a chance to utilize the professional etiquette they learned in the mentoring program as well as interact with community members in various professions.
X-ALT-DESC;FMTTYPE=text/html:<span style="color:#B22222\;"><strong>The event will be POSTPONED due to Dallas County&#39\;s discouraging of large gatherings as a precaution for the health of the community.</strong></span><br />\n<br />\nINSPIRE School Programs presents the MVP Luncheon.<br />\n<br />\nMVP Luncheon will honor over 400 young men from Cedar Hill\, Duncanville\, and South Oak Cliff high schools who participated in the MVP mentoring program. This year&#39\;s theme is &quot\;SOAR - Aim High!&quot\; In order to inspire and empower students to achieve success in academics\, relationships\, and life!<br />\n<br />\nHow can you be involved?<br />\nBecome a Table Sponsor and/or a Table Host! The luncheon provides students with a chance to utilize the professional etiquette they learned in the mentoring program as well as interact with community members in various professions.
LOCATION:Trinity Church 1231 E Pleasant Run Rd Cedar Hill\, TX 75104
UID:e.1426.16134
SEQUENCE:3
DTSTAMP:20260425T222725Z
URL:https://www.cedarhillchamber.org/events/details/mvp-luncheon-16134
END:VEVENT

END:VCALENDAR
