BEGIN:VCALENDAR
VERSION:2.0
PRODID:-//ChamberMaster//Event Calendar 2.0//EN
METHOD:PUBLISH
X-PUBLISHED-TTL:P3D
REFRESH-INTERVAL:P3D
CALSCALE:GREGORIAN
BEGIN:VEVENT
DTSTART;VALUE=DATE:20210610
DTEND;VALUE=DATE:20210613
TRANSP:TRANSPARENT
X-MICROSOFT-CDO-ALLDAYEVENT:TRUE
SUMMARY:Mission Cedar Hill 20th Anniversary Jubilee
DESCRIPTION:We are SO EXCITED to tell you about Mission Cedar Hill's 20th Anniversary Jubilee. This Year's 20th Anniversary Big Week is June 10th - 12th\, 2021. Then\, we will Celebrate this great opportunity to "love your neighbor" outside at Virginia Weaver Park located at 631 Somerset Dr\, Cedar Hill\, TX 75104 from 10:30 AM - 1:00 PM. Whether you have worked with us one year or all twenty\, we invite you to help us Take CARE to our Community Thursday through Saturday and then Celebrate the Love of Christ with us on Sunday.\n\n \n\nWe will gather at High Pointe\, 101 High Pointe Ln. Cedar Hill\, 75104 each morning at 7:30 AM to be placed with our teams\, receive our assignments and pick up our tools and supplies. Lunch will be provided by Mission Cedar Hill each day at various locations right around 12 noon\, then it's back to work up to the 4 O'clock hour\, then back to High Pointe for drop-off and pick-up.\n\nWe will repeat this schedule each day\, Thursday\, Friday and Saturday. Half day schedules are also available with morning\, and afternoon shifts. So whether you can come one day\, a part of a day\, or all three days\, we have a place just for you. Over these past 20 years we have worked on well over 1000 properties restoring well over $1 Million Dollars of restoration to our communities. Come help us continue this much needed ministry to those in need.\n\n \n\nIf you would like\, put together your Bible study\, small group\, Classmates\, family\, or any other group of friends\, let us know how many there are and the kind of work you would be comfortable doing and allow us to make it happen for you. Mission Cedar Hill places volunteers with homeowners in need of some assistance. We have never charged or collected a single penny from a homeowner\, and we never will. So if you or your group could contribute financially to this endeavor that would be VERY WELCOMED. \n\n \n\nSo you have lots of ways to help us Celebrate this year's Anniversary Jubilee! Go to our website\, www.MissionCedarHill.org for all of the latest information. There you can check the dates and times AND SIGN UP to volunteer. There is also a way to donate\, or you can always drop a check in the mail to Mission Cedar Hill\, 101 High Pointe Ln. Cedar Hill\, TX. 75104. We hope to see you as well as a number of the homeowners we have helped over the years at this year's Celebration Jubilee!\n\n \nGod Bless You\,\n\nSteve Scott\n\nMission Cedar Hill\n\nMissions Manager
X-ALT-DESC;FMTTYPE=text/html:<div>We are&nbsp\;SO EXCITED&nbsp\;to tell you about&nbsp\;Mission Cedar Hill&#39\;s&nbsp\;20th Anniversary Jubilee. This Year&#39\;s 20th Anniversary Big Week is June 10th - 12th\, 2021. Then\, we will Celebrate this great opportunity to &quot\;love your neighbor&quot\; outside at Virginia Weaver Park located at&nbsp\;<a data-saferedirecturl="https://www.google.com/url?q=https://www.bing.com/local?lid%3DYN825x207324122%26id%3DYN825x207324122%26q%3DVirginia%2BWeaver%2BPark%26name%3DVirginia%2BWeaver%2BPark%26cp%3D32.57890319824219%257e-96.94888305664062%26ppois%3D32.57890319824219_-96.94888305664062_Virginia%2BWeaver%2BPark&amp\;source=gmail&amp\;ust=1618412217963000&amp\;usg=AFQjCNGAb_7baC0HXGkclyANxObrRimeYA" href="https://www.bing.com/local?lid=YN825x207324122&amp\;id=YN825x207324122&amp\;q=Virginia+Weaver+Park&amp\;name=Virginia+Weaver+Park&amp\;cp=32.57890319824219%7e-96.94888305664062&amp\;ppois=32.57890319824219_-96.94888305664062_Virginia+Weaver+Park" target="_blank">631 Somerset Dr\, Cedar Hill\, TX 75104</a>&nbsp\;from 10:30 AM - 1:00 PM. Whether you have worked with us one year or all twenty\, we invite you to help us&nbsp\;Take&nbsp\;CARE&nbsp\;to our Community&nbsp\;Thursday through Saturday and then Celebrate the Love of Christ with us on Sunday.<br />\n&nbsp\;</div>\n\n<div>We will gather at High Pointe\, 101 High Pointe Ln. Cedar Hill\, 75104 each morning at 7:30 AM to be placed with our teams\, receive&nbsp\;our assignments and pick up our tools and supplies. Lunch will be provided by Mission Cedar Hill each day at various locations right around 12 noon\, then it&#39\;s back to work up to the 4 O&#39\;clock hour\, then back to High Pointe for drop-off and pick-up.</div>\n\n<div>We will repeat this schedule each day\, Thursday\, Friday and Saturday. Half day schedules are also available with morning\, and afternoon shifts. So whether you can come one day\, a part of a day\, or all three days\, we have a place just for you.&nbsp\;Over these past 20 years we have worked on well over 1000 properties restoring well over $1 Million Dollars of restoration to our communities. Come help us continue this much needed ministry to those in need.<br />\n&nbsp\;</div>\n\n<div>If you would like\, put together your Bible study\, small group\, Classmates\, family\, or any other group of friends\, let us know how many there are and the kind of work you would be comfortable doing and allow us to make it happen for you. Mission Cedar Hill places volunteers with homeowners in need of some assistance. We have never charged or collected a single penny from a homeowner\, and we never will. So if you or your group could contribute financially to this endeavor that would be VERY WELCOMED.&nbsp\;<br />\n&nbsp\;</div>\n\n<div>So you have lots of&nbsp\;ways to help us Celebrate this year&#39\;s Anniversary Jubilee! Go to our website\,&nbsp\;<a data-saferedirecturl="https://www.google.com/url?q=http://www.missioncedarhill.org/&amp\;source=gmail&amp\;ust=1618412217963000&amp\;usg=AFQjCNHq4FuVS8sZnMdcoYizpx8ZiPVFBQ" href="http://www.missioncedarhill.org/" target="_blank">www.MissionCedarHill.<wbr />org</a>&nbsp\;for all of the latest information. There you can check the dates and times AND SIGN UP to volunteer. There is also a way to donate\, or you can always drop a check in the mail to Mission Cedar Hill\, 101 High Pointe Ln. Cedar Hill\, TX. 75104. We hope to see you as well as a number of the homeowners we have helped over the years at this year&#39\;s Celebration Jubilee!<br />\n&nbsp\;\n<div>God Bless You\,</div>\n\n<div>Steve Scott</div>\n\n<div>Mission Cedar Hill</div>\n\n<div>Missions Manager</div>\n</div>\n
LOCATION:
UID:e.1426.16492
SEQUENCE:3
DTSTAMP:20260424T204559Z
URL:https://www.cedarhillchamber.org/events/details/mission-cedar-hill-20th-anniversary-jubilee-16492
END:VEVENT

END:VCALENDAR
